BEGIN:VCALENDAR
VERSION:2.0
PRODID:-//Freund statt fremd - ECPv6.15.17.1//NONSGML v1.0//EN
CALSCALE:GREGORIAN
METHOD:PUBLISH
X-ORIGINAL-URL:https://freundstattfremd.de
X-WR-CALDESC:Veranstaltungen für Freund statt fremd
REFRESH-INTERVAL;VALUE=DURATION:PT1H
X-Robots-Tag:noindex
X-PUBLISHED-TTL:PT1H
BEGIN:VTIMEZONE
TZID:Europe/Berlin
BEGIN:DAYLIGHT
TZOFFSETFROM:+0100
TZOFFSETTO:+0200
TZNAME:CEST
DTSTART:20220327T010000
END:DAYLIGHT
BEGIN:STANDARD
TZOFFSETFROM:+0200
TZOFFSETTO:+0100
TZNAME:CET
DTSTART:20221030T010000
END:STANDARD
BEGIN:DAYLIGHT
TZOFFSETFROM:+0100
TZOFFSETTO:+0200
TZNAME:CEST
DTSTART:20230326T010000
END:DAYLIGHT
BEGIN:STANDARD
TZOFFSETFROM:+0200
TZOFFSETTO:+0100
TZNAME:CET
DTSTART:20231029T010000
END:STANDARD
BEGIN:DAYLIGHT
TZOFFSETFROM:+0100
TZOFFSETTO:+0200
TZNAME:CEST
DTSTART:20240331T010000
END:DAYLIGHT
BEGIN:STANDARD
TZOFFSETFROM:+0200
TZOFFSETTO:+0100
TZNAME:CET
DTSTART:20241027T010000
END:STANDARD
END:VTIMEZONE
BEGIN:VEVENT
DTSTART;TZID=Europe/Berlin:20230804T123000
DTEND;TZID=Europe/Berlin:20230804T133000
DTSTAMP:20260425T124732
CREATED:20230925T075410Z
LAST-MODIFIED:20230925T075410Z
UID:10009407-1691152200-1691155800@freundstattfremd.de
SUMMARY:MoKo - Mohammads Köstlichkeiten in der Blauen Frieda!
DESCRIPTION:Jeden Freitag verwöhnt uns Mohammad mit wunderbarem Essen. Das aktuelle Menü der Woche findet ihr auf Instagram und Facebook.\n\n\nBitte mailt bis Donnerstagabend 20:00 an mohammadkocht@gmail.com unter Angabe von:\n\nName\nTelefon\nAnzahl der Portionen und Wahl des Gerichts\n\n\n\nFreitags zwischen 12:30 und 13:30 könnt ihr in der Blauen Frieda das Essen genießen und spenden.\n\n\nLasst es euch schmecken!
URL:https://freundstattfremd.de/event/moko-mohammads-koestlichkeiten-in-der-blauen-frieda-3/2023-08-04/
LOCATION:Blaue Frieda\, Schützenstraße 2a\, Bamberg\, Bayern\, 96050
ATTACH;FMTTYPE=image/jpeg:https://freundstattfremd.de/wp-content/uploads/2021/08/229511619_4316467991729415_8732734240260160848_n.jpg
ORGANIZER;CN="Freund statt fremd e.V.":MAILTO:kontakt@freundstattfremd.de
END:VEVENT
BEGIN:VEVENT
DTSTART;TZID=Europe/Berlin:20230804T150000
DTEND;TZID=Europe/Berlin:20230804T200000
DTSTAMP:20260425T124732
CREATED:20230725T093131Z
LAST-MODIFIED:20230725T093206Z
UID:10008440-1691161200-1691179200@freundstattfremd.de
SUMMARY:Sommerfest der Begegnung
DESCRIPTION:Wir möchten mit euch feiern. Mit allen\, die sich hier tagtäglich begegnen. Du bist jeden Nachmittag hier um Deutsch zu lernen\, aber auch zu lehren\, du hast dich schonmal beraten lassen oder unterstützt eines unserer Teams. Du trinkst einfach gerne einen Café bei uns. Dann ist das dein Fest! \nGenießt italienische Snacks und schlurft alkoholfreie Cocktails. Tolle Attraktionen für Kinder (und Erwachsene)!
URL:https://freundstattfremd.de/event/sommerfest-der-begegnung/
LOCATION:Blaue Frieda\, Schützenstraße 2a\, Bamberg\, Bayern\, 96050
ATTACH;FMTTYPE=image/jpeg:https://freundstattfremd.de/wp-content/uploads/2023/07/Sommerfest-der-Begegnung1.jpg
ORGANIZER;CN="Freund statt fremd e.V.":MAILTO:kontakt@freundstattfremd.de
END:VEVENT
END:VCALENDAR