BEGIN:VCALENDAR
VERSION:2.0
PRODID:-//Freund statt fremd - ECPv6.15.17.1//NONSGML v1.0//EN
CALSCALE:GREGORIAN
METHOD:PUBLISH
X-ORIGINAL-URL:https://freundstattfremd.de
X-WR-CALDESC:Veranstaltungen für Freund statt fremd
REFRESH-INTERVAL;VALUE=DURATION:PT1H
X-Robots-Tag:noindex
X-PUBLISHED-TTL:PT1H
BEGIN:VTIMEZONE
TZID:Europe/Berlin
BEGIN:DAYLIGHT
TZOFFSETFROM:+0100
TZOFFSETTO:+0200
TZNAME:CEST
DTSTART:20220327T010000
END:DAYLIGHT
BEGIN:STANDARD
TZOFFSETFROM:+0200
TZOFFSETTO:+0100
TZNAME:CET
DTSTART:20221030T010000
END:STANDARD
BEGIN:DAYLIGHT
TZOFFSETFROM:+0100
TZOFFSETTO:+0200
TZNAME:CEST
DTSTART:20230326T010000
END:DAYLIGHT
BEGIN:STANDARD
TZOFFSETFROM:+0200
TZOFFSETTO:+0100
TZNAME:CET
DTSTART:20231029T010000
END:STANDARD
BEGIN:DAYLIGHT
TZOFFSETFROM:+0100
TZOFFSETTO:+0200
TZNAME:CEST
DTSTART:20240331T010000
END:DAYLIGHT
BEGIN:STANDARD
TZOFFSETFROM:+0200
TZOFFSETTO:+0100
TZNAME:CET
DTSTART:20241027T010000
END:STANDARD
END:VTIMEZONE
BEGIN:VEVENT
DTSTART;TZID=Europe/Berlin:20230822T090000
DTEND;TZID=Europe/Berlin:20230822T120000
DTSTAMP:20260423T184248
CREATED:20230725T111122Z
LAST-MODIFIED:20230808T092344Z
UID:10008446-1692694800-1692705600@freundstattfremd.de
SUMMARY:Die Geschäftsstelle ist geschlossen
DESCRIPTION:Leider ist die Geschäftsstelle heute geschlossen. Wir sind über Mail zu erreichen: kontakt@freundstattfremd.de. Ebenso finden in regelmäßigen Abständen Sprechstunden und das Sprachcafé statt. Seht auf unserem Kalender\, wann die Blaue Frieda geöffnet ist.
URL:https://freundstattfremd.de/event/die-geschaeftsstelle-ist-geschlossen/2023-08-22/
LOCATION:Blaue Frieda\, Schützenstraße 2a\, Bamberg\, Bayern\, 96050
ATTACH;FMTTYPE=image/png:https://freundstattfremd.de/wp-content/uploads/2023/07/sun-ge181f6826_1280.png
ORGANIZER;CN="Freund statt fremd e.V.":MAILTO:kontakt@freundstattfremd.de
END:VEVENT
BEGIN:VEVENT
DTSTART;TZID=Europe/Berlin:20230822T170000
DTEND;TZID=Europe/Berlin:20230822T190000
DTSTAMP:20260423T184248
CREATED:20230725T121437Z
LAST-MODIFIED:20240424T090856Z
UID:10008744-1692723600-1692730800@freundstattfremd.de
SUMMARY:Ukraine-Sprechstunde
DESCRIPTION:Diese Sprechstunde findet jeden Dienstag und Donnerstag zwischen 17-19 Uhr in der Blauen Frieda statt.\nUnsere Helfer:innen versuchen\, alle Fragen zum Alltag und zum Leben in Deutschland zu beantworten bzw. weiterzuhelfen. \nOhne Anmeldung oder Termin!
URL:https://freundstattfremd.de/event/ukraine-sprechstunde-4/2023-08-22/
LOCATION:Blaue Frieda\, Schützenstraße 2a\, Bamberg\, Bayern\, 96050
CATEGORIES:Sprechstunden
ATTACH;FMTTYPE=image/png:https://freundstattfremd.de/wp-content/uploads/2022/03/Ukraine_01.png
ORGANIZER;CN="Freund statt fremd e.V.":MAILTO:kontakt@freundstattfremd.de
END:VEVENT
END:VCALENDAR