BEGIN:VCALENDAR
VERSION:2.0
PRODID:-//Freund statt fremd - ECPv6.15.17.1//NONSGML v1.0//EN
CALSCALE:GREGORIAN
METHOD:PUBLISH
X-ORIGINAL-URL:https://freundstattfremd.de
X-WR-CALDESC:Veranstaltungen für Freund statt fremd
REFRESH-INTERVAL;VALUE=DURATION:PT1H
X-Robots-Tag:noindex
X-PUBLISHED-TTL:PT1H
BEGIN:VTIMEZONE
TZID:Europe/Berlin
BEGIN:DAYLIGHT
TZOFFSETFROM:+0100
TZOFFSETTO:+0200
TZNAME:CEST
DTSTART:20220327T010000
END:DAYLIGHT
BEGIN:STANDARD
TZOFFSETFROM:+0200
TZOFFSETTO:+0100
TZNAME:CET
DTSTART:20221030T010000
END:STANDARD
BEGIN:DAYLIGHT
TZOFFSETFROM:+0100
TZOFFSETTO:+0200
TZNAME:CEST
DTSTART:20230326T010000
END:DAYLIGHT
BEGIN:STANDARD
TZOFFSETFROM:+0200
TZOFFSETTO:+0100
TZNAME:CET
DTSTART:20231029T010000
END:STANDARD
BEGIN:DAYLIGHT
TZOFFSETFROM:+0100
TZOFFSETTO:+0200
TZNAME:CEST
DTSTART:20240331T010000
END:DAYLIGHT
BEGIN:STANDARD
TZOFFSETFROM:+0200
TZOFFSETTO:+0100
TZNAME:CET
DTSTART:20241027T010000
END:STANDARD
END:VTIMEZONE
BEGIN:VEVENT
DTSTART;TZID=Europe/Berlin:20230921T140000
DTEND;TZID=Europe/Berlin:20230921T170000
DTSTAMP:20260423T151522
CREATED:20221114T123708Z
LAST-MODIFIED:20241209T140412Z
UID:10002038-1695304800-1695315600@freundstattfremd.de
SUMMARY:Sprachcafé
DESCRIPTION:Du willst gerne Leute treffen und Deutsch üben? Du möchtest etwas über andere Kulturen lernen? Dann komm ins Sprachcafé! \nWir sprechen über Familie\, Essen\, Kunst\, Kultur\, das Leben in Deutschland und alles\, wozu wir Lust haben. Alle Menschen\, die andere Menschen und Kulturen kennenlernen wollen\, sind herzlich willkommen. 
URL:https://freundstattfremd.de/event/sprachcafe-3/2023-09-21/
LOCATION:Blaue Frieda\, Schützenstraße 2a\, Bamberg\, Bayern\, 96050
ATTACH;FMTTYPE=image/jpeg:https://freundstattfremd.de/wp-content/uploads/2022/10/Sprachcafe.jpg
ORGANIZER;CN="Freund statt fremd e.V.":MAILTO:kontakt@freundstattfremd.de
END:VEVENT
BEGIN:VEVENT
DTSTART;TZID=Europe/Berlin:20230921T170000
DTEND;TZID=Europe/Berlin:20230921T190000
DTSTAMP:20260423T151522
CREATED:20221006T110543Z
LAST-MODIFIED:20240909T093337Z
UID:10000813-1695315600-1695322800@freundstattfremd.de
SUMMARY:Ukraine-Sprechstunde
DESCRIPTION:Diese Sprechstunde findet jeden Dienstag und Donnerstag zwischen 17-19 Uhr in der Blauen Frieda statt.\nUnsere Helfer:innen versuchen\, alle Fragen zum Alltag und zum Leben in Deutschland zu beantworten bzw. weiterzuhelfen. \nOhne Anmeldung oder Termin!
URL:https://freundstattfremd.de/event/ukraine-sprechstunde-2/2023-09-21/
LOCATION:Blaue Frieda\, Schützenstraße 2a\, Bamberg\, Bayern\, 96050
CATEGORIES:Sprechstunden
ATTACH;FMTTYPE=image/png:https://freundstattfremd.de/wp-content/uploads/2022/03/Ukraine_01.png
ORGANIZER;CN="Freund statt fremd e.V.":MAILTO:kontakt@freundstattfremd.de
END:VEVENT
END:VCALENDAR