BEGIN:VCALENDAR
VERSION:2.0
PRODID:-//Freund statt fremd - ECPv6.15.17.1//NONSGML v1.0//EN
CALSCALE:GREGORIAN
METHOD:PUBLISH
X-ORIGINAL-URL:https://freundstattfremd.de
X-WR-CALDESC:Veranstaltungen für Freund statt fremd
REFRESH-INTERVAL;VALUE=DURATION:PT1H
X-Robots-Tag:noindex
X-PUBLISHED-TTL:PT1H
BEGIN:VTIMEZONE
TZID:Europe/Berlin
BEGIN:DAYLIGHT
TZOFFSETFROM:+0100
TZOFFSETTO:+0200
TZNAME:CEST
DTSTART:20220327T010000
END:DAYLIGHT
BEGIN:STANDARD
TZOFFSETFROM:+0200
TZOFFSETTO:+0100
TZNAME:CET
DTSTART:20221030T010000
END:STANDARD
BEGIN:DAYLIGHT
TZOFFSETFROM:+0100
TZOFFSETTO:+0200
TZNAME:CEST
DTSTART:20230326T010000
END:DAYLIGHT
BEGIN:STANDARD
TZOFFSETFROM:+0200
TZOFFSETTO:+0100
TZNAME:CET
DTSTART:20231029T010000
END:STANDARD
BEGIN:DAYLIGHT
TZOFFSETFROM:+0100
TZOFFSETTO:+0200
TZNAME:CEST
DTSTART:20240331T010000
END:DAYLIGHT
BEGIN:STANDARD
TZOFFSETFROM:+0200
TZOFFSETTO:+0100
TZNAME:CET
DTSTART:20241027T010000
END:STANDARD
END:VTIMEZONE
BEGIN:VEVENT
DTSTART;TZID=Europe/Berlin:20231104T170000
DTEND;TZID=Europe/Berlin:20231105T170000
DTSTAMP:20260423T170801
CREATED:20231011T094332Z
LAST-MODIFIED:20231030T142831Z
UID:10010235-1699117200-1699203600@freundstattfremd.de
SUMMARY:24h-Lesung zum Thema Menschen auf der Flucht
DESCRIPTION:Millionen Menschen sind weltweit auf der Flucht\, weil ihnen in ihrer Heimat Zerstörung\, Misshandlung oder Folter drohen. Wir wollen der menschenfeindlichen Rhetorik oder alltäglichen Gleichgültigkeit gegenüber Geflüchteten etwas entgegensetzen und auf Einzelschicksale und persönliche Fluchterfahrungen aufmerksam zu machen. \n24 Stunden lesen Geflüchtete\, Ehrenamtliche und Akteure und Akteurinnen der Bamberger Gesellschaft zum Thema Flucht. Aber nicht nur\, wir haben auch Musik\, Gesang und Vorträge. \nSei vor Ort mit dabei oder klicke dich in unserem Livestream auf Facebook und Instagram!
URL:https://freundstattfremd.de/event/24h-lesung-zum-thema-menschen-auf-der-flucht/
LOCATION:Blaue Frieda\, Schützenstraße 2a\, Bamberg\, Bayern\, 96050
ATTACH;FMTTYPE=image/jpeg:https://freundstattfremd.de/wp-content/uploads/2023/10/hands-6389396_1280.jpg
ORGANIZER;CN="Freund statt fremd e.V.":MAILTO:kontakt@freundstattfremd.de
END:VEVENT
END:VCALENDAR