BEGIN:VCALENDAR
VERSION:2.0
PRODID:-//Freund statt fremd - ECPv6.15.17.1//NONSGML v1.0//EN
CALSCALE:GREGORIAN
METHOD:PUBLISH
X-WR-CALNAME:Freund statt fremd
X-ORIGINAL-URL:https://freundstattfremd.de
X-WR-CALDESC:Veranstaltungen für Freund statt fremd
REFRESH-INTERVAL;VALUE=DURATION:PT1H
X-Robots-Tag:noindex
X-PUBLISHED-TTL:PT1H
BEGIN:VTIMEZONE
TZID:Europe/Berlin
BEGIN:DAYLIGHT
TZOFFSETFROM:+0100
TZOFFSETTO:+0200
TZNAME:CEST
DTSTART:20220327T010000
END:DAYLIGHT
BEGIN:STANDARD
TZOFFSETFROM:+0200
TZOFFSETTO:+0100
TZNAME:CET
DTSTART:20221030T010000
END:STANDARD
BEGIN:DAYLIGHT
TZOFFSETFROM:+0100
TZOFFSETTO:+0200
TZNAME:CEST
DTSTART:20230326T010000
END:DAYLIGHT
BEGIN:STANDARD
TZOFFSETFROM:+0200
TZOFFSETTO:+0100
TZNAME:CET
DTSTART:20231029T010000
END:STANDARD
BEGIN:DAYLIGHT
TZOFFSETFROM:+0100
TZOFFSETTO:+0200
TZNAME:CEST
DTSTART:20240331T010000
END:DAYLIGHT
BEGIN:STANDARD
TZOFFSETFROM:+0200
TZOFFSETTO:+0100
TZNAME:CET
DTSTART:20241027T010000
END:STANDARD
END:VTIMEZONE
BEGIN:VEVENT
DTSTART;TZID=Europe/Berlin:20231122T140000
DTEND;TZID=Europe/Berlin:20231122T160000
DTSTAMP:20260423T220944
CREATED:20231006T070234Z
LAST-MODIFIED:20240909T083539Z
UID:10009980-1700661600-1700668800@freundstattfremd.de
SUMMARY:Frag Mansour
DESCRIPTION:Jeden Mittwoch ist Mansour von 14-16 Uhr für euch. Er hilft bei Korrespondenzen und berät bei Alltagsproblemen. All das tut er auch auf persisch. \nیا نیاز به کمک و حمایت دارید ؟\nمن برای خدمت به شما آمادهام\nاز »منصور« بخواهید\nبرای مشاوره عمومی و کمک برای\nینامه نگار
URL:https://freundstattfremd.de/event/frag-mansour-4/2023-11-22/
LOCATION:Blaue Frieda\, Schützenstraße 2a\, Bamberg\, Bayern\, 96050
CATEGORIES:Sprechstunden
ATTACH;FMTTYPE=image/jpeg:https://freundstattfremd.de/wp-content/uploads/2023/10/fragM-scaled-e1717669911752.jpg
ORGANIZER;CN="Freund statt fremd e.V.":MAILTO:kontakt@freundstattfremd.de
END:VEVENT
BEGIN:VEVENT
DTSTART;TZID=Europe/Berlin:20231122T140000
DTEND;TZID=Europe/Berlin:20231122T170000
DTSTAMP:20260423T220944
CREATED:20221006T114929Z
LAST-MODIFIED:20241209T140137Z
UID:10001502-1700661600-1700672400@freundstattfremd.de
SUMMARY:Sprachcafé
DESCRIPTION:Du willst gerne Leute treffen und Deutsch üben? Du möchtest etwas über andere Kulturen lernen? Dann komm am Mittwoch ins Sprachcafé! \nWir sprechen über Familie\, Essen\, Kunst\, Kultur\, das Leben in Deutschland und alles\, wozu wir Lust haben. Alle offenen Menschen\, die andere Menschen und Kulturen kennenlernen wollen\, sind herzlich willkommen. 
URL:https://freundstattfremd.de/event/sprachcafe/2023-11-22/
LOCATION:Blaue Frieda\, Schützenstraße 2a\, Bamberg\, Bayern\, 96050
ATTACH;FMTTYPE=image/jpeg:https://freundstattfremd.de/wp-content/uploads/2022/10/Sprachcafe.jpg
ORGANIZER;CN="Freund statt fremd e.V.":MAILTO:kontakt@freundstattfremd.de
END:VEVENT
END:VCALENDAR