BEGIN:VCALENDAR
VERSION:2.0
PRODID:-//Freund statt fremd - ECPv6.15.17.1//NONSGML v1.0//EN
CALSCALE:GREGORIAN
METHOD:PUBLISH
X-ORIGINAL-URL:https://freundstattfremd.de
X-WR-CALDESC:Veranstaltungen für Freund statt fremd
REFRESH-INTERVAL;VALUE=DURATION:PT1H
X-Robots-Tag:noindex
X-PUBLISHED-TTL:PT1H
BEGIN:VTIMEZONE
TZID:Europe/Berlin
BEGIN:DAYLIGHT
TZOFFSETFROM:+0100
TZOFFSETTO:+0200
TZNAME:CEST
DTSTART:20220327T010000
END:DAYLIGHT
BEGIN:STANDARD
TZOFFSETFROM:+0200
TZOFFSETTO:+0100
TZNAME:CET
DTSTART:20221030T010000
END:STANDARD
BEGIN:DAYLIGHT
TZOFFSETFROM:+0100
TZOFFSETTO:+0200
TZNAME:CEST
DTSTART:20230326T010000
END:DAYLIGHT
BEGIN:STANDARD
TZOFFSETFROM:+0200
TZOFFSETTO:+0100
TZNAME:CET
DTSTART:20231029T010000
END:STANDARD
BEGIN:DAYLIGHT
TZOFFSETFROM:+0100
TZOFFSETTO:+0200
TZNAME:CEST
DTSTART:20240331T010000
END:DAYLIGHT
BEGIN:STANDARD
TZOFFSETFROM:+0200
TZOFFSETTO:+0100
TZNAME:CET
DTSTART:20241027T010000
END:STANDARD
END:VTIMEZONE
BEGIN:VEVENT
DTSTART;TZID=Europe/Berlin:20231125T100000
DTEND;TZID=Europe/Berlin:20231125T120000
DTSTAMP:20260423T185250
CREATED:20221006T114302Z
LAST-MODIFIED:20240220T111959Z
UID:10001293-1700906400-1700913600@freundstattfremd.de
SUMMARY:Nachhilfe für Schulkinder
DESCRIPTION:Jeden Samstag 10:00-12:00 Uhr wird in der Blauen Frieda Nachhilfe für Kinder von 6-16 Jahren angeboten.\nAnmeldung per E-Mail an bildung@freundstattfremd.de.
URL:https://freundstattfremd.de/event/nachhilfe-fuer-schulkinder/2023-11-25/
LOCATION:Blaue Frieda\, Schützenstraße 2a\, Bamberg\, Bayern\, 96050
CATEGORIES:Kinder
ATTACH;FMTTYPE=image/jpeg:https://freundstattfremd.de/wp-content/uploads/2022/10/IMG_20210918_112904_kl-DinA4-scaled.jpg
ORGANIZER;CN="Freund statt fremd e.V.":MAILTO:kontakt@freundstattfremd.de
END:VEVENT
BEGIN:VEVENT
DTSTART;TZID=Europe/Berlin:20231125T150000
DTEND;TZID=Europe/Berlin:20231125T170000
DTSTAMP:20260423T185250
CREATED:20221006T111554Z
LAST-MODIFIED:20241210T093318Z
UID:10001035-1700924400-1700931600@freundstattfremd.de
SUMMARY:Beratungssprechstunde
DESCRIPTION:Am Samstag geht es in der Sprechstunde um alle Fragen\, die das Bleiben in Deutschland betreffen. Das Sprechstundenteam erreicht ihr per E-Mail an sprechstunde@freundstattfremd.de. \nKomm vorbei\, ohne Anmeldung oder Termin. Bitte Unterlagen vollständig mitbringen.
URL:https://freundstattfremd.de/event/beratungssprechstunde/2023-11-25/
LOCATION:Blaue Frieda\, Schützenstraße 2a\, Bamberg\, Bayern\, 96050
CATEGORIES:Sprechstunden
ATTACH;FMTTYPE=image/jpeg:https://freundstattfremd.de/wp-content/uploads/2022/10/Beratungssprechstunde.jpg
ORGANIZER;CN="Freund statt fremd e.V.":MAILTO:kontakt@freundstattfremd.de
END:VEVENT
END:VCALENDAR