BEGIN:VCALENDAR
VERSION:2.0
PRODID:-//Freund statt fremd - ECPv6.15.17.1//NONSGML v1.0//EN
CALSCALE:GREGORIAN
METHOD:PUBLISH
X-ORIGINAL-URL:https://freundstattfremd.de
X-WR-CALDESC:Veranstaltungen für Freund statt fremd
REFRESH-INTERVAL;VALUE=DURATION:PT1H
X-Robots-Tag:noindex
X-PUBLISHED-TTL:PT1H
BEGIN:VTIMEZONE
TZID:Europe/Berlin
BEGIN:DAYLIGHT
TZOFFSETFROM:+0100
TZOFFSETTO:+0200
TZNAME:CEST
DTSTART:20220327T010000
END:DAYLIGHT
BEGIN:STANDARD
TZOFFSETFROM:+0200
TZOFFSETTO:+0100
TZNAME:CET
DTSTART:20221030T010000
END:STANDARD
BEGIN:DAYLIGHT
TZOFFSETFROM:+0100
TZOFFSETTO:+0200
TZNAME:CEST
DTSTART:20230326T010000
END:DAYLIGHT
BEGIN:STANDARD
TZOFFSETFROM:+0200
TZOFFSETTO:+0100
TZNAME:CET
DTSTART:20231029T010000
END:STANDARD
BEGIN:DAYLIGHT
TZOFFSETFROM:+0100
TZOFFSETTO:+0200
TZNAME:CEST
DTSTART:20240331T010000
END:DAYLIGHT
BEGIN:STANDARD
TZOFFSETFROM:+0200
TZOFFSETTO:+0100
TZNAME:CET
DTSTART:20241027T010000
END:STANDARD
END:VTIMEZONE
BEGIN:VEVENT
DTSTART;TZID=Europe/Berlin:20230701T100000
DTEND;TZID=Europe/Berlin:20230701T120000
DTSTAMP:20260423T221232
CREATED:20221006T114302Z
LAST-MODIFIED:20240220T111959Z
UID:10001272-1688205600-1688212800@freundstattfremd.de
SUMMARY:Nachhilfe für Schulkinder
DESCRIPTION:Jeden Samstag 10:00-12:00 Uhr wird in der Blauen Frieda Nachhilfe für Kinder von 6-16 Jahren angeboten.\nAnmeldung per E-Mail an bildung@freundstattfremd.de.
URL:https://freundstattfremd.de/event/nachhilfe-fuer-schulkinder/2023-07-01/
LOCATION:Blaue Frieda\, Schützenstraße 2a\, Bamberg\, Bayern\, 96050
CATEGORIES:Kinder
ATTACH;FMTTYPE=image/jpeg:https://freundstattfremd.de/wp-content/uploads/2022/10/IMG_20210918_112904_kl-DinA4-scaled.jpg
ORGANIZER;CN="Freund statt fremd e.V.":MAILTO:kontakt@freundstattfremd.de
END:VEVENT
BEGIN:VEVENT
DTSTART;TZID=Europe/Berlin:20230701T150000
DTEND;TZID=Europe/Berlin:20230701T170000
DTSTAMP:20260423T221232
CREATED:20221006T111554Z
LAST-MODIFIED:20241210T093318Z
UID:10001014-1688223600-1688230800@freundstattfremd.de
SUMMARY:Beratungssprechstunde
DESCRIPTION:Am Samstag geht es in der Sprechstunde um alle Fragen\, die das Bleiben in Deutschland betreffen. Das Sprechstundenteam erreicht ihr per E-Mail an sprechstunde@freundstattfremd.de. \nKomm vorbei\, ohne Anmeldung oder Termin. Bitte Unterlagen vollständig mitbringen.
URL:https://freundstattfremd.de/event/beratungssprechstunde/2023-07-01/
LOCATION:Blaue Frieda\, Schützenstraße 2a\, Bamberg\, Bayern\, 96050
CATEGORIES:Sprechstunden
ATTACH;FMTTYPE=image/jpeg:https://freundstattfremd.de/wp-content/uploads/2022/10/Beratungssprechstunde.jpg
ORGANIZER;CN="Freund statt fremd e.V.":MAILTO:kontakt@freundstattfremd.de
END:VEVENT
BEGIN:VEVENT
DTSTART;TZID=Europe/Berlin:20230702T140000
DTEND;TZID=Europe/Berlin:20230702T160000
DTSTAMP:20260423T221232
CREATED:20230301T092418Z
LAST-MODIFIED:20230301T092418Z
UID:10003330-1688306400-1688313600@freundstattfremd.de
SUMMARY:Basteln & Malen mit Anna
DESCRIPTION:Immer am ersten Sonntag im Monat wird in der Blauen Frieda gebastelt. Alle Kinder zwischen 6 und 12 Jahren sind herzlich eingeladen.
URL:https://freundstattfremd.de/event/basteln-malen-mit-anna/2023-07-02/
LOCATION:Blaue Frieda\, Schützenstraße 2a\, Bamberg\, Bayern\, 96050
ATTACH;FMTTYPE=image/jpeg:https://freundstattfremd.de/wp-content/uploads/2023/03/Basteln-und-Malen-mit-Anna.jpg
ORGANIZER;CN="Freund statt fremd e.V.":MAILTO:kontakt@freundstattfremd.de
END:VEVENT
BEGIN:VEVENT
DTSTART;TZID=Europe/Berlin:20230703T150000
DTEND;TZID=Europe/Berlin:20230703T163000
DTSTAMP:20260423T221232
CREATED:20230207T101232Z
LAST-MODIFIED:20230207T101232Z
UID:10002626-1688396400-1688401800@freundstattfremd.de
SUMMARY:Kinder-Theaterworkshop
DESCRIPTION:Ab dem 13.2. erlebt ihr großes Theater in der Blauen Frieda. Zusammen mit dem Kinder- und Jugendtheater Chapeau Claque freuen wir uns jeden Montag zwischen 15:00 und 16:30 einen Theaterkurs für Kinder zwischen 6-12 Jahren anzubieten. Der Kurs geht bis zu den Sommerferien. \nBitte meldet euch an unter: kontakt@freundstattfremd.de
URL:https://freundstattfremd.de/event/kinder-theaterworkshop/2023-07-03/
LOCATION:Blaue Frieda\, Schützenstraße 2a\, Bamberg\, Bayern\, 96050
ATTACH;FMTTYPE=image/webp:https://freundstattfremd.de/wp-content/uploads/2023/02/stage-158366__480.webp
ORGANIZER;CN="Freund statt fremd e.V.":MAILTO:kontakt@freundstattfremd.de
END:VEVENT
BEGIN:VEVENT
DTSTART;TZID=Europe/Berlin:20230703T190000
DTEND;TZID=Europe/Berlin:20230703T200000
DTSTAMP:20260423T221232
CREATED:20230628T094355Z
LAST-MODIFIED:20230629T085939Z
UID:10006635-1688410800-1688414400@freundstattfremd.de
SUMMARY:Schach-Unterricht
DESCRIPTION:Von 19-20 Uhr könnt ihr euch in der Kunst des Schachs unterrichten lassen. Lernt neue Spielzüge und neue Leute kennen. Veranstaltung für Erwachsene.
URL:https://freundstattfremd.de/event/schach-unterricht-2/2023-07-03/
LOCATION:Blaue Frieda\, Schützenstraße 2a\, Bamberg\, Bayern\, 96050
ATTACH;FMTTYPE=image/png:https://freundstattfremd.de/wp-content/uploads/2023/06/schach.png
ORGANIZER;CN="Freund statt fremd e.V.":MAILTO:kontakt@freundstattfremd.de
END:VEVENT
BEGIN:VEVENT
DTSTART;TZID=Europe/Berlin:20230703T200000
DTEND;TZID=Europe/Berlin:20230703T230000
DTSTAMP:20260423T221232
CREATED:20230628T094851Z
LAST-MODIFIED:20230628T094852Z
UID:10006376-1688414400-1688425200@freundstattfremd.de
SUMMARY:Freies Schach Spiel
DESCRIPTION:Wir treffen uns jeden Montag und Donnerstag ab 20 Uhr in der Blauen Frieda zum Schach spielen. \n 
URL:https://freundstattfremd.de/event/schach-spielen-in-der-blauen-frieda-2/2023-07-03/
LOCATION:Blaue Frieda\, Schützenstraße 2a\, Bamberg\, Bayern\, 96050
ATTACH;FMTTYPE=image/png:https://freundstattfremd.de/wp-content/uploads/2023/06/board-gf45a04dcb_1280.png
ORGANIZER;CN="Freund statt fremd e.V.":MAILTO:kontakt@freundstattfremd.de
END:VEVENT
BEGIN:VEVENT
DTSTART;TZID=Europe/Berlin:20230704T140000
DTEND;TZID=Europe/Berlin:20230704T170000
DTSTAMP:20260423T221232
CREATED:20221114T123538Z
LAST-MODIFIED:20260414T101953Z
UID:10001818-1688479200-1688490000@freundstattfremd.de
SUMMARY:Sprachcafé
DESCRIPTION:Du willst gerne Leute treffen und Deutsch üben? Du möchtest etwas über andere Kulturen lernen? Dann komm ins Sprachcafé! \nWir sprechen über Familie\, Essen\, Kunst\, Kultur\, das Leben in Deutschland und alles\, wozu wir Lust haben. Alle Menschen\, die andere Menschen und Kulturen kennenlernen wollen\, sind herzlich willkommen. 
URL:https://freundstattfremd.de/event/sprachcafe-2/2023-07-04/
LOCATION:Blaue Frieda\, Schützenstraße 2a\, Bamberg\, Bayern\, 96050
ATTACH;FMTTYPE=image/jpeg:https://freundstattfremd.de/wp-content/uploads/2022/10/Sprachcafe.jpg
ORGANIZER;CN="Freund statt fremd e.V.":MAILTO:kontakt@freundstattfremd.de
END:VEVENT
BEGIN:VEVENT
DTSTART;TZID=Europe/Berlin:20230704T170000
DTEND;TZID=Europe/Berlin:20230704T190000
DTSTAMP:20260423T221232
CREATED:20220908T114558Z
LAST-MODIFIED:20221006T110710Z
UID:10000544-1688490000-1688497200@freundstattfremd.de
SUMMARY:Ukraine-Sprechstunde
DESCRIPTION:Diese Sprechstunde findet jeden Dienstag und Donnerstag zwischen 17-19 Uhr in der Blauen Frieda statt.\nUnsere Helfer:innen versuchen\, alle Fragen zum Alltag und zum Leben in Deutschland zu beantworten bzw. weiterzuhelfen. \nOhne Anmeldung oder Termin!
URL:https://freundstattfremd.de/event/ukraine-sprechstunde/2023-07-04/
LOCATION:Blaue Frieda\, Schützenstraße 2a\, Bamberg\, Bayern\, 96050
CATEGORIES:Sprechstunden
ATTACH;FMTTYPE=image/png:https://freundstattfremd.de/wp-content/uploads/2022/03/Ukraine_01.png
ORGANIZER;CN="Freund statt fremd e.V.":MAILTO:kontakt@freundstattfremd.de
END:VEVENT
BEGIN:VEVENT
DTSTART;TZID=Europe/Berlin:20230705T140000
DTEND;TZID=Europe/Berlin:20230705T160000
DTSTAMP:20260423T221232
CREATED:20230228T084604Z
LAST-MODIFIED:20230309T114058Z
UID:10003134-1688565600-1688572800@freundstattfremd.de
SUMMARY:Frag Mansour
DESCRIPTION:Jeden Mittwoch ist Mansour von 14-16 Uhr für euch. Er hilft bei Korrespondenzen und berät bei Alltagsproblemen. All das tut er auch auf persisch. \nیا نیاز به کمک و حمایت دارید ؟\nمن برای خدمت به شما آمادهام\nاز »منصور« بخواهید\nبرای مشاوره عمومی و کمک برای\nینامه نگار
URL:https://freundstattfremd.de/event/frag-mansour/2023-07-05/
LOCATION:Blaue Frieda\, Schützenstraße 2a\, Bamberg\, Bayern\, 96050
CATEGORIES:Sprechstunden
ATTACH;FMTTYPE=image/jpeg:https://freundstattfremd.de/wp-content/uploads/2023/02/hands-gaa4591c4e_1920.jpg
ORGANIZER;CN="Freund statt fremd e.V.":MAILTO:kontakt@freundstattfremd.de
END:VEVENT
BEGIN:VEVENT
DTSTART;TZID=Europe/Berlin:20230705T140000
DTEND;TZID=Europe/Berlin:20230705T170000
DTSTAMP:20260423T221232
CREATED:20221006T114929Z
LAST-MODIFIED:20241209T140137Z
UID:10001482-1688565600-1688576400@freundstattfremd.de
SUMMARY:Sprachcafé
DESCRIPTION:Du willst gerne Leute treffen und Deutsch üben? Du möchtest etwas über andere Kulturen lernen? Dann komm am Mittwoch ins Sprachcafé! \nWir sprechen über Familie\, Essen\, Kunst\, Kultur\, das Leben in Deutschland und alles\, wozu wir Lust haben. Alle offenen Menschen\, die andere Menschen und Kulturen kennenlernen wollen\, sind herzlich willkommen. 
URL:https://freundstattfremd.de/event/sprachcafe/2023-07-05/
LOCATION:Blaue Frieda\, Schützenstraße 2a\, Bamberg\, Bayern\, 96050
ATTACH;FMTTYPE=image/jpeg:https://freundstattfremd.de/wp-content/uploads/2022/10/Sprachcafe.jpg
ORGANIZER;CN="Freund statt fremd e.V.":MAILTO:kontakt@freundstattfremd.de
END:VEVENT
BEGIN:VEVENT
DTSTART;TZID=Europe/Berlin:20230705T173000
DTEND;TZID=Europe/Berlin:20230705T183000
DTSTAMP:20260423T221232
CREATED:20230223T154400Z
LAST-MODIFIED:20230223T154400Z
UID:10002926-1688578200-1688581800@freundstattfremd.de
SUMMARY:Laufen für die Menschlichkeit - der Fsf-Lauftreff
DESCRIPTION:Jeden Mittwoch treffen wir uns um 17:30 vor der Blauen Frieda. Dort startet und endet unsere Runde. Alle Menschen sind willkommen. Niemand wird abgehängt. \nWir freuen uns auf dich!
URL:https://freundstattfremd.de/event/laufen-fuer-die-menschlichkeit-der-fsf-lauftreff/2023-07-05/
LOCATION:Blaue Frieda\, Schützenstraße 2a\, Bamberg\, Bayern\, 96050
ATTACH;FMTTYPE=image/png:https://freundstattfremd.de/wp-content/uploads/2023/02/runner-g3805ccdff_1280.png
ORGANIZER;CN="Freund statt fremd e.V.":MAILTO:kontakt@freundstattfremd.de
END:VEVENT
BEGIN:VEVENT
DTSTART;TZID=Europe/Berlin:20230705T193000
DTEND;TZID=Europe/Berlin:20230705T210000
DTSTAMP:20260423T221232
CREATED:20221007T073740Z
LAST-MODIFIED:20240904T111820Z
UID:10001661-1688585400-1688590800@freundstattfremd.de
SUMMARY:Offener Orga-Treff
DESCRIPTION:Zum offenen Orga-Treff sind alle eingeladen\, die sich bereits engagieren\, sich mehr einbringen wollen oder einfach neugierig sind. Bringt eure Themen\, Fragen und Impulse mit.
URL:https://freundstattfremd.de/event/offener-orga-treff/2023-07-05/
LOCATION:Blaue Frieda\, Schützenstraße 2a\, Bamberg\, Bayern\, 96050
ATTACH;FMTTYPE=application/pdf:https://freundstattfremd.de/wp-content/uploads/2022/10/Fsf-Logo-farbig.pdf
ORGANIZER;CN="Freund statt fremd e.V.":MAILTO:kontakt@freundstattfremd.de
END:VEVENT
BEGIN:VEVENT
DTSTART;TZID=Europe/Berlin:20230706T140000
DTEND;TZID=Europe/Berlin:20230706T170000
DTSTAMP:20260423T221232
CREATED:20221114T123708Z
LAST-MODIFIED:20241209T140412Z
UID:10002027-1688652000-1688662800@freundstattfremd.de
SUMMARY:Sprachcafé
DESCRIPTION:Du willst gerne Leute treffen und Deutsch üben? Du möchtest etwas über andere Kulturen lernen? Dann komm ins Sprachcafé! \nWir sprechen über Familie\, Essen\, Kunst\, Kultur\, das Leben in Deutschland und alles\, wozu wir Lust haben. Alle Menschen\, die andere Menschen und Kulturen kennenlernen wollen\, sind herzlich willkommen. 
URL:https://freundstattfremd.de/event/sprachcafe-3/2023-07-06/
LOCATION:Blaue Frieda\, Schützenstraße 2a\, Bamberg\, Bayern\, 96050
ATTACH;FMTTYPE=image/jpeg:https://freundstattfremd.de/wp-content/uploads/2022/10/Sprachcafe.jpg
ORGANIZER;CN="Freund statt fremd e.V.":MAILTO:kontakt@freundstattfremd.de
END:VEVENT
BEGIN:VEVENT
DTSTART;TZID=Europe/Berlin:20230706T170000
DTEND;TZID=Europe/Berlin:20230706T190000
DTSTAMP:20260423T221232
CREATED:20221006T110543Z
LAST-MODIFIED:20240909T093337Z
UID:10000802-1688662800-1688670000@freundstattfremd.de
SUMMARY:Ukraine-Sprechstunde
DESCRIPTION:Diese Sprechstunde findet jeden Dienstag und Donnerstag zwischen 17-19 Uhr in der Blauen Frieda statt.\nUnsere Helfer:innen versuchen\, alle Fragen zum Alltag und zum Leben in Deutschland zu beantworten bzw. weiterzuhelfen. \nOhne Anmeldung oder Termin!
URL:https://freundstattfremd.de/event/ukraine-sprechstunde-2/2023-07-06/
LOCATION:Blaue Frieda\, Schützenstraße 2a\, Bamberg\, Bayern\, 96050
CATEGORIES:Sprechstunden
ATTACH;FMTTYPE=image/png:https://freundstattfremd.de/wp-content/uploads/2022/03/Ukraine_01.png
ORGANIZER;CN="Freund statt fremd e.V.":MAILTO:kontakt@freundstattfremd.de
END:VEVENT
BEGIN:VEVENT
DTSTART;TZID=Europe/Berlin:20230706T190000
DTEND;TZID=Europe/Berlin:20230706T200000
DTSTAMP:20260423T221232
CREATED:20230628T095709Z
LAST-MODIFIED:20230629T090100Z
UID:10007418-1688670000-1688673600@freundstattfremd.de
SUMMARY:Schach-Unterricht
DESCRIPTION:Von 19-20 Uhr könnt ihr euch in der Kunst des Schachs unterrichten lassen. Lernt neue Spielzüge und neue Leute kennen. Veranstaltung für Erwachsene.
URL:https://freundstattfremd.de/event/schach-unterricht-3/2023-07-06/
LOCATION:Blaue Frieda\, Schützenstraße 2a\, Bamberg\, Bayern\, 96050
ATTACH;FMTTYPE=image/png:https://freundstattfremd.de/wp-content/uploads/2023/06/schach.png
ORGANIZER;CN="Freund statt fremd e.V.":MAILTO:kontakt@freundstattfremd.de
END:VEVENT
BEGIN:VEVENT
DTSTART;TZID=Europe/Berlin:20230706T200000
DTEND;TZID=Europe/Berlin:20230706T230000
DTSTAMP:20260423T221232
CREATED:20230628T100427Z
LAST-MODIFIED:20230628T100427Z
UID:10007940-1688673600-1688684400@freundstattfremd.de
SUMMARY:Freies Schach Spiel
DESCRIPTION:Wir treffen uns jeden Montag und Donnerstag ab 20 Uhr in der Blauen Frieda zum Schach spielen. \n 
URL:https://freundstattfremd.de/event/freies-schach-spiel/2023-07-06/
LOCATION:Blaue Frieda\, Schützenstraße 2a\, Bamberg\, Bayern\, 96050
ATTACH;FMTTYPE=image/png:https://freundstattfremd.de/wp-content/uploads/2023/06/board-gf45a04dcb_1280.png
ORGANIZER;CN="Freund statt fremd e.V.":MAILTO:kontakt@freundstattfremd.de
END:VEVENT
BEGIN:VEVENT
DTSTART;TZID=Europe/Berlin:20230707T123000
DTEND;TZID=Europe/Berlin:20230707T133000
DTSTAMP:20260423T221232
CREATED:20220908T093155Z
LAST-MODIFIED:20230112T092829Z
UID:10002529-1688733000-1688736600@freundstattfremd.de
SUMMARY:MoKo - Mohammads Köstlichkeiten in der Blauen Frieda!
DESCRIPTION:Jeden Freitag verwöhnt uns Mohammad mit wunderbarem Essen. Das aktuelle Menü der Woche findet ihr auf Instagram und Facebook.\n\n\nBitte mailt bis Donnerstagabend 20:00 an mohammadkocht@gmail.com unter Angabe von:\n\nName\nTelefon\nAnzahl der Portionen und Wahl des Gerichts\n\n\n\nFreitags zwischen 12:30 und 13:30 könnt ihr in der Blauen Frieda das Essen genießen und spenden.\n\n\nLasst es euch schmecken!
URL:https://freundstattfremd.de/event/moko-mohammads-koestlichkeiten-in-der-blauen-frieda/2023-07-07/
LOCATION:Blaue Frieda\, Schützenstraße 2a\, Bamberg\, Bayern\, 96050
ATTACH;FMTTYPE=image/jpeg:https://freundstattfremd.de/wp-content/uploads/2021/08/229511619_4316467991729415_8732734240260160848_n.jpg
ORGANIZER;CN="Freund statt fremd e.V.":MAILTO:kontakt@freundstattfremd.de
END:VEVENT
BEGIN:VEVENT
DTSTART;TZID=Europe/Berlin:20230707T123000
DTEND;TZID=Europe/Berlin:20230707T133000
DTSTAMP:20260423T221232
CREATED:20230925T075410Z
LAST-MODIFIED:20230925T075410Z
UID:10009398-1688733000-1688736600@freundstattfremd.de
SUMMARY:MoKo - Mohammads Köstlichkeiten in der Blauen Frieda!
DESCRIPTION:Jeden Freitag verwöhnt uns Mohammad mit wunderbarem Essen. Das aktuelle Menü der Woche findet ihr auf Instagram und Facebook.\n\n\nBitte mailt bis Donnerstagabend 20:00 an mohammadkocht@gmail.com unter Angabe von:\n\nName\nTelefon\nAnzahl der Portionen und Wahl des Gerichts\n\n\n\nFreitags zwischen 12:30 und 13:30 könnt ihr in der Blauen Frieda das Essen genießen und spenden.\n\n\nLasst es euch schmecken!
URL:https://freundstattfremd.de/event/moko-mohammads-koestlichkeiten-in-der-blauen-frieda-3/2023-07-07/
LOCATION:Blaue Frieda\, Schützenstraße 2a\, Bamberg\, Bayern\, 96050
ATTACH;FMTTYPE=image/jpeg:https://freundstattfremd.de/wp-content/uploads/2021/08/229511619_4316467991729415_8732734240260160848_n.jpg
ORGANIZER;CN="Freund statt fremd e.V.":MAILTO:kontakt@freundstattfremd.de
END:VEVENT
BEGIN:VEVENT
DTSTART;TZID=Europe/Berlin:20230707T140000
DTEND;TZID=Europe/Berlin:20230707T170000
DTSTAMP:20260423T221232
CREATED:20230222T130121Z
LAST-MODIFIED:20241209T140448Z
UID:10002717-1688738400-1688749200@freundstattfremd.de
SUMMARY:Sprachcafé
DESCRIPTION:Du willst gerne Leute treffen und Deutsch üben? Du möchtest etwas über andere Kulturen lernen? Dann komm ins Sprachcafé! \nWir sprechen über Familie\, Essen\, Kunst\, Kultur\, das Leben in Deutschland und alles\, wozu wir Lust haben. Alle Menschen\, die andere Menschen und Kulturen kennenlernen wollen\, sind herzlich willkommen. 
URL:https://freundstattfremd.de/event/sprachcafe-4/2023-07-07/
LOCATION:Blaue Frieda\, Schützenstraße 2a\, Bamberg\, Bayern\, 96050
ATTACH;FMTTYPE=image/jpeg:https://freundstattfremd.de/wp-content/uploads/2022/10/Sprachcafe.jpg
ORGANIZER;CN="Freund statt fremd e.V.":MAILTO:kontakt@freundstattfremd.de
END:VEVENT
BEGIN:VEVENT
DTSTART;TZID=Europe/Berlin:20230707T173000
DTEND;TZID=Europe/Berlin:20230707T210000
DTSTAMP:20260423T221232
CREATED:20230705T085725Z
LAST-MODIFIED:20230705T085726Z
UID:10002492-1688751000-1688763600@freundstattfremd.de
SUMMARY:Interkulinarisches Kochen - ENTFÄLLT
DESCRIPTION:Gemeinsam bereiten wir beim interkulinarischen Kochen Köstlichkeiten aus unterschiedlichen Ländern zu.\nDazu gibt es spannende Geschichten aus der Heimat und der Kultur der Köchin/des Koches.\nWir laden zum Mitmachen ein!\nDa die Plätze begrenzt sind und damit wir alles in der richtigen Menge besorgen können\, bitten wir unbedingt um vorherige Anmeldung bis spätestens Donnerstag unter: kontakt@freundstattfremd.de
URL:https://freundstattfremd.de/event/interkulinarisches-kochen-4-2/
ATTACH;FMTTYPE=image/png:https://freundstattfremd.de/wp-content/uploads/2022/09/interkulinarisches-kochen_Logo-e1717670232130.png
END:VEVENT
BEGIN:VEVENT
DTSTART;TZID=Europe/Berlin:20230708T100000
DTEND;TZID=Europe/Berlin:20230708T120000
DTSTAMP:20260423T221232
CREATED:20221006T114302Z
LAST-MODIFIED:20240220T111959Z
UID:10001273-1688810400-1688817600@freundstattfremd.de
SUMMARY:Nachhilfe für Schulkinder
DESCRIPTION:Jeden Samstag 10:00-12:00 Uhr wird in der Blauen Frieda Nachhilfe für Kinder von 6-16 Jahren angeboten.\nAnmeldung per E-Mail an bildung@freundstattfremd.de.
URL:https://freundstattfremd.de/event/nachhilfe-fuer-schulkinder/2023-07-08/
LOCATION:Blaue Frieda\, Schützenstraße 2a\, Bamberg\, Bayern\, 96050
CATEGORIES:Kinder
ATTACH;FMTTYPE=image/jpeg:https://freundstattfremd.de/wp-content/uploads/2022/10/IMG_20210918_112904_kl-DinA4-scaled.jpg
ORGANIZER;CN="Freund statt fremd e.V.":MAILTO:kontakt@freundstattfremd.de
END:VEVENT
BEGIN:VEVENT
DTSTART;TZID=Europe/Berlin:20230708T150000
DTEND;TZID=Europe/Berlin:20230708T170000
DTSTAMP:20260423T221232
CREATED:20221006T111554Z
LAST-MODIFIED:20241210T093318Z
UID:10001015-1688828400-1688835600@freundstattfremd.de
SUMMARY:Beratungssprechstunde
DESCRIPTION:Am Samstag geht es in der Sprechstunde um alle Fragen\, die das Bleiben in Deutschland betreffen. Das Sprechstundenteam erreicht ihr per E-Mail an sprechstunde@freundstattfremd.de. \nKomm vorbei\, ohne Anmeldung oder Termin. Bitte Unterlagen vollständig mitbringen.
URL:https://freundstattfremd.de/event/beratungssprechstunde/2023-07-08/
LOCATION:Blaue Frieda\, Schützenstraße 2a\, Bamberg\, Bayern\, 96050
CATEGORIES:Sprechstunden
ATTACH;FMTTYPE=image/jpeg:https://freundstattfremd.de/wp-content/uploads/2022/10/Beratungssprechstunde.jpg
ORGANIZER;CN="Freund statt fremd e.V.":MAILTO:kontakt@freundstattfremd.de
END:VEVENT
BEGIN:VEVENT
DTSTART;TZID=Europe/Berlin:20230710T150000
DTEND;TZID=Europe/Berlin:20230710T163000
DTSTAMP:20260423T221232
CREATED:20230207T101232Z
LAST-MODIFIED:20230207T101232Z
UID:10002627-1689001200-1689006600@freundstattfremd.de
SUMMARY:Kinder-Theaterworkshop
DESCRIPTION:Ab dem 13.2. erlebt ihr großes Theater in der Blauen Frieda. Zusammen mit dem Kinder- und Jugendtheater Chapeau Claque freuen wir uns jeden Montag zwischen 15:00 und 16:30 einen Theaterkurs für Kinder zwischen 6-12 Jahren anzubieten. Der Kurs geht bis zu den Sommerferien. \nBitte meldet euch an unter: kontakt@freundstattfremd.de
URL:https://freundstattfremd.de/event/kinder-theaterworkshop/2023-07-10/
LOCATION:Blaue Frieda\, Schützenstraße 2a\, Bamberg\, Bayern\, 96050
ATTACH;FMTTYPE=image/webp:https://freundstattfremd.de/wp-content/uploads/2023/02/stage-158366__480.webp
ORGANIZER;CN="Freund statt fremd e.V.":MAILTO:kontakt@freundstattfremd.de
END:VEVENT
BEGIN:VEVENT
DTSTART;TZID=Europe/Berlin:20230710T190000
DTEND;TZID=Europe/Berlin:20230710T200000
DTSTAMP:20260423T221232
CREATED:20230628T094355Z
LAST-MODIFIED:20230629T085939Z
UID:10006636-1689015600-1689019200@freundstattfremd.de
SUMMARY:Schach-Unterricht
DESCRIPTION:Von 19-20 Uhr könnt ihr euch in der Kunst des Schachs unterrichten lassen. Lernt neue Spielzüge und neue Leute kennen. Veranstaltung für Erwachsene.
URL:https://freundstattfremd.de/event/schach-unterricht-2/2023-07-10/
LOCATION:Blaue Frieda\, Schützenstraße 2a\, Bamberg\, Bayern\, 96050
ATTACH;FMTTYPE=image/png:https://freundstattfremd.de/wp-content/uploads/2023/06/schach.png
ORGANIZER;CN="Freund statt fremd e.V.":MAILTO:kontakt@freundstattfremd.de
END:VEVENT
BEGIN:VEVENT
DTSTART;TZID=Europe/Berlin:20230710T200000
DTEND;TZID=Europe/Berlin:20230710T230000
DTSTAMP:20260423T221232
CREATED:20230628T094851Z
LAST-MODIFIED:20230628T094852Z
UID:10006896-1689019200-1689030000@freundstattfremd.de
SUMMARY:Freies Schach Spiel
DESCRIPTION:Wir treffen uns jeden Montag und Donnerstag ab 20 Uhr in der Blauen Frieda zum Schach spielen. \n 
URL:https://freundstattfremd.de/event/schach-spielen-in-der-blauen-frieda-2/2023-07-10/
LOCATION:Blaue Frieda\, Schützenstraße 2a\, Bamberg\, Bayern\, 96050
ATTACH;FMTTYPE=image/png:https://freundstattfremd.de/wp-content/uploads/2023/06/board-gf45a04dcb_1280.png
ORGANIZER;CN="Freund statt fremd e.V.":MAILTO:kontakt@freundstattfremd.de
END:VEVENT
BEGIN:VEVENT
DTSTART;TZID=Europe/Berlin:20230711T140000
DTEND;TZID=Europe/Berlin:20230711T170000
DTSTAMP:20260423T221232
CREATED:20221114T123538Z
LAST-MODIFIED:20260414T101953Z
UID:10001819-1689084000-1689094800@freundstattfremd.de
SUMMARY:Sprachcafé
DESCRIPTION:Du willst gerne Leute treffen und Deutsch üben? Du möchtest etwas über andere Kulturen lernen? Dann komm ins Sprachcafé! \nWir sprechen über Familie\, Essen\, Kunst\, Kultur\, das Leben in Deutschland und alles\, wozu wir Lust haben. Alle Menschen\, die andere Menschen und Kulturen kennenlernen wollen\, sind herzlich willkommen. 
URL:https://freundstattfremd.de/event/sprachcafe-2/2023-07-11/
LOCATION:Blaue Frieda\, Schützenstraße 2a\, Bamberg\, Bayern\, 96050
ATTACH;FMTTYPE=image/jpeg:https://freundstattfremd.de/wp-content/uploads/2022/10/Sprachcafe.jpg
ORGANIZER;CN="Freund statt fremd e.V.":MAILTO:kontakt@freundstattfremd.de
END:VEVENT
BEGIN:VEVENT
DTSTART;TZID=Europe/Berlin:20230711T170000
DTEND;TZID=Europe/Berlin:20230711T190000
DTSTAMP:20260423T221232
CREATED:20220908T114558Z
LAST-MODIFIED:20221006T110710Z
UID:10000545-1689094800-1689102000@freundstattfremd.de
SUMMARY:Ukraine-Sprechstunde
DESCRIPTION:Diese Sprechstunde findet jeden Dienstag und Donnerstag zwischen 17-19 Uhr in der Blauen Frieda statt.\nUnsere Helfer:innen versuchen\, alle Fragen zum Alltag und zum Leben in Deutschland zu beantworten bzw. weiterzuhelfen. \nOhne Anmeldung oder Termin!
URL:https://freundstattfremd.de/event/ukraine-sprechstunde/2023-07-11/
LOCATION:Blaue Frieda\, Schützenstraße 2a\, Bamberg\, Bayern\, 96050
CATEGORIES:Sprechstunden
ATTACH;FMTTYPE=image/png:https://freundstattfremd.de/wp-content/uploads/2022/03/Ukraine_01.png
ORGANIZER;CN="Freund statt fremd e.V.":MAILTO:kontakt@freundstattfremd.de
END:VEVENT
BEGIN:VEVENT
DTSTART;TZID=Europe/Berlin:20230712T140000
DTEND;TZID=Europe/Berlin:20230712T160000
DTSTAMP:20260423T221232
CREATED:20230228T084604Z
LAST-MODIFIED:20230309T114058Z
UID:10003135-1689170400-1689177600@freundstattfremd.de
SUMMARY:Frag Mansour
DESCRIPTION:Jeden Mittwoch ist Mansour von 14-16 Uhr für euch. Er hilft bei Korrespondenzen und berät bei Alltagsproblemen. All das tut er auch auf persisch. \nیا نیاز به کمک و حمایت دارید ؟\nمن برای خدمت به شما آمادهام\nاز »منصور« بخواهید\nبرای مشاوره عمومی و کمک برای\nینامه نگار
URL:https://freundstattfremd.de/event/frag-mansour/2023-07-12/
LOCATION:Blaue Frieda\, Schützenstraße 2a\, Bamberg\, Bayern\, 96050
CATEGORIES:Sprechstunden
ATTACH;FMTTYPE=image/jpeg:https://freundstattfremd.de/wp-content/uploads/2023/02/hands-gaa4591c4e_1920.jpg
ORGANIZER;CN="Freund statt fremd e.V.":MAILTO:kontakt@freundstattfremd.de
END:VEVENT
BEGIN:VEVENT
DTSTART;TZID=Europe/Berlin:20230712T140000
DTEND;TZID=Europe/Berlin:20230712T170000
DTSTAMP:20260423T221232
CREATED:20221006T114929Z
LAST-MODIFIED:20241209T140137Z
UID:10001483-1689170400-1689181200@freundstattfremd.de
SUMMARY:Sprachcafé
DESCRIPTION:Du willst gerne Leute treffen und Deutsch üben? Du möchtest etwas über andere Kulturen lernen? Dann komm am Mittwoch ins Sprachcafé! \nWir sprechen über Familie\, Essen\, Kunst\, Kultur\, das Leben in Deutschland und alles\, wozu wir Lust haben. Alle offenen Menschen\, die andere Menschen und Kulturen kennenlernen wollen\, sind herzlich willkommen. 
URL:https://freundstattfremd.de/event/sprachcafe/2023-07-12/
LOCATION:Blaue Frieda\, Schützenstraße 2a\, Bamberg\, Bayern\, 96050
ATTACH;FMTTYPE=image/jpeg:https://freundstattfremd.de/wp-content/uploads/2022/10/Sprachcafe.jpg
ORGANIZER;CN="Freund statt fremd e.V.":MAILTO:kontakt@freundstattfremd.de
END:VEVENT
BEGIN:VEVENT
DTSTART;TZID=Europe/Berlin:20230712T173000
DTEND;TZID=Europe/Berlin:20230712T183000
DTSTAMP:20260423T221232
CREATED:20230223T154400Z
LAST-MODIFIED:20230223T154400Z
UID:10002927-1689183000-1689186600@freundstattfremd.de
SUMMARY:Laufen für die Menschlichkeit - der Fsf-Lauftreff
DESCRIPTION:Jeden Mittwoch treffen wir uns um 17:30 vor der Blauen Frieda. Dort startet und endet unsere Runde. Alle Menschen sind willkommen. Niemand wird abgehängt. \nWir freuen uns auf dich!
URL:https://freundstattfremd.de/event/laufen-fuer-die-menschlichkeit-der-fsf-lauftreff/2023-07-12/
LOCATION:Blaue Frieda\, Schützenstraße 2a\, Bamberg\, Bayern\, 96050
ATTACH;FMTTYPE=image/png:https://freundstattfremd.de/wp-content/uploads/2023/02/runner-g3805ccdff_1280.png
ORGANIZER;CN="Freund statt fremd e.V.":MAILTO:kontakt@freundstattfremd.de
END:VEVENT
END:VCALENDAR