BEGIN:VCALENDAR
VERSION:2.0
PRODID:-//Freund statt fremd - ECPv6.15.17.1//NONSGML v1.0//EN
CALSCALE:GREGORIAN
METHOD:PUBLISH
X-ORIGINAL-URL:https://freundstattfremd.de
X-WR-CALDESC:Veranstaltungen für Freund statt fremd
REFRESH-INTERVAL;VALUE=DURATION:PT1H
X-Robots-Tag:noindex
X-PUBLISHED-TTL:PT1H
BEGIN:VTIMEZONE
TZID:Europe/Berlin
BEGIN:DAYLIGHT
TZOFFSETFROM:+0100
TZOFFSETTO:+0200
TZNAME:CEST
DTSTART:20220327T010000
END:DAYLIGHT
BEGIN:STANDARD
TZOFFSETFROM:+0200
TZOFFSETTO:+0100
TZNAME:CET
DTSTART:20221030T010000
END:STANDARD
BEGIN:DAYLIGHT
TZOFFSETFROM:+0100
TZOFFSETTO:+0200
TZNAME:CEST
DTSTART:20230326T010000
END:DAYLIGHT
BEGIN:STANDARD
TZOFFSETFROM:+0200
TZOFFSETTO:+0100
TZNAME:CET
DTSTART:20231029T010000
END:STANDARD
BEGIN:DAYLIGHT
TZOFFSETFROM:+0100
TZOFFSETTO:+0200
TZNAME:CEST
DTSTART:20240331T010000
END:DAYLIGHT
BEGIN:STANDARD
TZOFFSETFROM:+0200
TZOFFSETTO:+0100
TZNAME:CET
DTSTART:20241027T010000
END:STANDARD
END:VTIMEZONE
BEGIN:VEVENT
DTSTART;TZID=Europe/Berlin:20230802T140000
DTEND;TZID=Europe/Berlin:20230802T170000
DTSTAMP:20260423T184340
CREATED:20230725T074518Z
LAST-MODIFIED:20240424T090114Z
UID:10008415-1690984800-1690995600@freundstattfremd.de
SUMMARY:Sprachcafé
DESCRIPTION:Du willst gerne Leute treffen und Deutsch üben? Du möchtest etwas über andere Kulturen lernen? Dann komm ins Sprachcafé! \nWir sprechen über Familie\, Essen\, Kunst\, Kultur\, das Leben in Deutschland und alles\, wozu wir Lust haben. Alle Menschen\, die andere Menschen und Kulturen kennenlernen wollen\, sind herzlich willkommen. 
URL:https://freundstattfremd.de/event/sprachcafe-6/2023-08-02/
LOCATION:Blaue Frieda\, Schützenstraße 2a\, Bamberg\, Bayern\, 96050
ATTACH;FMTTYPE=image/jpeg:https://freundstattfremd.de/wp-content/uploads/2022/09/Sprachcafe-scaled.jpg
ORGANIZER;CN="Freund statt fremd e.V.":MAILTO:kontakt@freundstattfremd.de
END:VEVENT
BEGIN:VEVENT
DTSTART;TZID=Europe/Berlin:20230802T193000
DTEND;TZID=Europe/Berlin:20230802T210000
DTSTAMP:20260423T184340
CREATED:20221007T073740Z
LAST-MODIFIED:20240904T111820Z
UID:10001662-1691004600-1691010000@freundstattfremd.de
SUMMARY:Offener Orga-Treff
DESCRIPTION:Zum offenen Orga-Treff sind alle eingeladen\, die sich bereits engagieren\, sich mehr einbringen wollen oder einfach neugierig sind. Bringt eure Themen\, Fragen und Impulse mit.
URL:https://freundstattfremd.de/event/offener-orga-treff/2023-08-02/
LOCATION:Blaue Frieda\, Schützenstraße 2a\, Bamberg\, Bayern\, 96050
ATTACH;FMTTYPE=application/pdf:https://freundstattfremd.de/wp-content/uploads/2022/10/Fsf-Logo-farbig.pdf
ORGANIZER;CN="Freund statt fremd e.V.":MAILTO:kontakt@freundstattfremd.de
END:VEVENT
BEGIN:VEVENT
DTSTART;TZID=Europe/Berlin:20230803T190000
DTEND;TZID=Europe/Berlin:20230803T200000
DTSTAMP:20260423T184340
CREATED:20230628T095709Z
LAST-MODIFIED:20230629T090100Z
UID:10007422-1691089200-1691092800@freundstattfremd.de
SUMMARY:Schach-Unterricht
DESCRIPTION:Von 19-20 Uhr könnt ihr euch in der Kunst des Schachs unterrichten lassen. Lernt neue Spielzüge und neue Leute kennen. Veranstaltung für Erwachsene.
URL:https://freundstattfremd.de/event/schach-unterricht-3/2023-08-03/
LOCATION:Blaue Frieda\, Schützenstraße 2a\, Bamberg\, Bayern\, 96050
ATTACH;FMTTYPE=image/png:https://freundstattfremd.de/wp-content/uploads/2023/06/schach.png
ORGANIZER;CN="Freund statt fremd e.V.":MAILTO:kontakt@freundstattfremd.de
END:VEVENT
BEGIN:VEVENT
DTSTART;TZID=Europe/Berlin:20230803T200000
DTEND;TZID=Europe/Berlin:20230803T230000
DTSTAMP:20260423T184340
CREATED:20230628T100427Z
LAST-MODIFIED:20230628T100427Z
UID:10007944-1691092800-1691103600@freundstattfremd.de
SUMMARY:Freies Schach Spiel
DESCRIPTION:Wir treffen uns jeden Montag und Donnerstag ab 20 Uhr in der Blauen Frieda zum Schach spielen. \n 
URL:https://freundstattfremd.de/event/freies-schach-spiel/2023-08-03/
LOCATION:Blaue Frieda\, Schützenstraße 2a\, Bamberg\, Bayern\, 96050
ATTACH;FMTTYPE=image/png:https://freundstattfremd.de/wp-content/uploads/2023/06/board-gf45a04dcb_1280.png
ORGANIZER;CN="Freund statt fremd e.V.":MAILTO:kontakt@freundstattfremd.de
END:VEVENT
BEGIN:VEVENT
DTSTART;TZID=Europe/Berlin:20230804T123000
DTEND;TZID=Europe/Berlin:20230804T133000
DTSTAMP:20260423T184340
CREATED:20230925T075410Z
LAST-MODIFIED:20230925T075410Z
UID:10009407-1691152200-1691155800@freundstattfremd.de
SUMMARY:MoKo - Mohammads Köstlichkeiten in der Blauen Frieda!
DESCRIPTION:Jeden Freitag verwöhnt uns Mohammad mit wunderbarem Essen. Das aktuelle Menü der Woche findet ihr auf Instagram und Facebook.\n\n\nBitte mailt bis Donnerstagabend 20:00 an mohammadkocht@gmail.com unter Angabe von:\n\nName\nTelefon\nAnzahl der Portionen und Wahl des Gerichts\n\n\n\nFreitags zwischen 12:30 und 13:30 könnt ihr in der Blauen Frieda das Essen genießen und spenden.\n\n\nLasst es euch schmecken!
URL:https://freundstattfremd.de/event/moko-mohammads-koestlichkeiten-in-der-blauen-frieda-3/2023-08-04/
LOCATION:Blaue Frieda\, Schützenstraße 2a\, Bamberg\, Bayern\, 96050
ATTACH;FMTTYPE=image/jpeg:https://freundstattfremd.de/wp-content/uploads/2021/08/229511619_4316467991729415_8732734240260160848_n.jpg
ORGANIZER;CN="Freund statt fremd e.V.":MAILTO:kontakt@freundstattfremd.de
END:VEVENT
BEGIN:VEVENT
DTSTART;TZID=Europe/Berlin:20230804T150000
DTEND;TZID=Europe/Berlin:20230804T200000
DTSTAMP:20260423T184340
CREATED:20230725T093131Z
LAST-MODIFIED:20230725T093206Z
UID:10008440-1691161200-1691179200@freundstattfremd.de
SUMMARY:Sommerfest der Begegnung
DESCRIPTION:Wir möchten mit euch feiern. Mit allen\, die sich hier tagtäglich begegnen. Du bist jeden Nachmittag hier um Deutsch zu lernen\, aber auch zu lehren\, du hast dich schonmal beraten lassen oder unterstützt eines unserer Teams. Du trinkst einfach gerne einen Café bei uns. Dann ist das dein Fest! \nGenießt italienische Snacks und schlurft alkoholfreie Cocktails. Tolle Attraktionen für Kinder (und Erwachsene)!
URL:https://freundstattfremd.de/event/sommerfest-der-begegnung/
LOCATION:Blaue Frieda\, Schützenstraße 2a\, Bamberg\, Bayern\, 96050
ATTACH;FMTTYPE=image/jpeg:https://freundstattfremd.de/wp-content/uploads/2023/07/Sommerfest-der-Begegnung1.jpg
ORGANIZER;CN="Freund statt fremd e.V.":MAILTO:kontakt@freundstattfremd.de
END:VEVENT
BEGIN:VEVENT
DTSTART;TZID=Europe/Berlin:20230805T140000
DTEND;TZID=Europe/Berlin:20230805T150000
DTSTAMP:20260423T184340
CREATED:20230706T064427Z
LAST-MODIFIED:20230706T064427Z
UID:10008350-1691244000-1691247600@freundstattfremd.de
SUMMARY:Sprechstunde - Ausbildung\, Beruf\, Studium
DESCRIPTION:SPRECHSTUNDE Ausbildung – Beruf – Studium\nAm Samstag um 14:00 ist Sprechstunde in der Blauen Frieda! Wir helfen dir bei Fragen zu:\n– Ausbildung\n– Arbeit\n– Praktikum\n– Studium\n– Bewerbung\nWichtig: Bring alle Dokumente mit (Zeugnisse\, Arbeitsnachweise)!\nWenn du vorab Fragen hast\, bitte mail an abs@freundstattfremd.de oder ruf an unter 0951-2975121.
URL:https://freundstattfremd.de/event/sprechstunde-ausbildung-beruf-studium-2/2023-08-05/
LOCATION:Blaue Frieda\, Schützenstraße 2a\, Bamberg\, Bayern\, 96050
ATTACH;FMTTYPE=image/jpeg:https://freundstattfremd.de/wp-content/uploads/2023/07/326794120_702735454676547_924497406348135183_n-e1714735433933.jpg
ORGANIZER;CN="Freund statt fremd e.V.":MAILTO:kontakt@freundstattfremd.de
END:VEVENT
BEGIN:VEVENT
DTSTART;TZID=Europe/Berlin:20230805T150000
DTEND;TZID=Europe/Berlin:20230805T170000
DTSTAMP:20260423T184340
CREATED:20221006T111554Z
LAST-MODIFIED:20241210T093318Z
UID:10001019-1691247600-1691254800@freundstattfremd.de
SUMMARY:Beratungssprechstunde
DESCRIPTION:Am Samstag geht es in der Sprechstunde um alle Fragen\, die das Bleiben in Deutschland betreffen. Das Sprechstundenteam erreicht ihr per E-Mail an sprechstunde@freundstattfremd.de. \nKomm vorbei\, ohne Anmeldung oder Termin. Bitte Unterlagen vollständig mitbringen.
URL:https://freundstattfremd.de/event/beratungssprechstunde/2023-08-05/
LOCATION:Blaue Frieda\, Schützenstraße 2a\, Bamberg\, Bayern\, 96050
CATEGORIES:Sprechstunden
ATTACH;FMTTYPE=image/jpeg:https://freundstattfremd.de/wp-content/uploads/2022/10/Beratungssprechstunde.jpg
ORGANIZER;CN="Freund statt fremd e.V.":MAILTO:kontakt@freundstattfremd.de
END:VEVENT
BEGIN:VEVENT
DTSTART;TZID=Europe/Berlin:20230807T190000
DTEND;TZID=Europe/Berlin:20230807T200000
DTSTAMP:20260423T184340
CREATED:20230628T094355Z
LAST-MODIFIED:20230629T085939Z
UID:10006640-1691434800-1691438400@freundstattfremd.de
SUMMARY:Schach-Unterricht
DESCRIPTION:Von 19-20 Uhr könnt ihr euch in der Kunst des Schachs unterrichten lassen. Lernt neue Spielzüge und neue Leute kennen. Veranstaltung für Erwachsene.
URL:https://freundstattfremd.de/event/schach-unterricht-2/2023-08-07/
LOCATION:Blaue Frieda\, Schützenstraße 2a\, Bamberg\, Bayern\, 96050
ATTACH;FMTTYPE=image/png:https://freundstattfremd.de/wp-content/uploads/2023/06/schach.png
ORGANIZER;CN="Freund statt fremd e.V.":MAILTO:kontakt@freundstattfremd.de
END:VEVENT
BEGIN:VEVENT
DTSTART;TZID=Europe/Berlin:20230807T200000
DTEND;TZID=Europe/Berlin:20230807T230000
DTSTAMP:20260423T184340
CREATED:20230628T094851Z
LAST-MODIFIED:20230628T094852Z
UID:10006900-1691438400-1691449200@freundstattfremd.de
SUMMARY:Freies Schach Spiel
DESCRIPTION:Wir treffen uns jeden Montag und Donnerstag ab 20 Uhr in der Blauen Frieda zum Schach spielen. \n 
URL:https://freundstattfremd.de/event/schach-spielen-in-der-blauen-frieda-2/2023-08-07/
LOCATION:Blaue Frieda\, Schützenstraße 2a\, Bamberg\, Bayern\, 96050
ATTACH;FMTTYPE=image/png:https://freundstattfremd.de/wp-content/uploads/2023/06/board-gf45a04dcb_1280.png
ORGANIZER;CN="Freund statt fremd e.V.":MAILTO:kontakt@freundstattfremd.de
END:VEVENT
BEGIN:VEVENT
DTSTART;TZID=Europe/Berlin:20230809T140000
DTEND;TZID=Europe/Berlin:20230809T170000
DTSTAMP:20260423T184340
CREATED:20230725T074518Z
LAST-MODIFIED:20240424T090114Z
UID:10008416-1691589600-1691600400@freundstattfremd.de
SUMMARY:Sprachcafé
DESCRIPTION:Du willst gerne Leute treffen und Deutsch üben? Du möchtest etwas über andere Kulturen lernen? Dann komm ins Sprachcafé! \nWir sprechen über Familie\, Essen\, Kunst\, Kultur\, das Leben in Deutschland und alles\, wozu wir Lust haben. Alle Menschen\, die andere Menschen und Kulturen kennenlernen wollen\, sind herzlich willkommen. 
URL:https://freundstattfremd.de/event/sprachcafe-6/2023-08-09/
LOCATION:Blaue Frieda\, Schützenstraße 2a\, Bamberg\, Bayern\, 96050
ATTACH;FMTTYPE=image/jpeg:https://freundstattfremd.de/wp-content/uploads/2022/09/Sprachcafe-scaled.jpg
ORGANIZER;CN="Freund statt fremd e.V.":MAILTO:kontakt@freundstattfremd.de
END:VEVENT
BEGIN:VEVENT
DTSTART;TZID=Europe/Berlin:20230810T090000
DTEND;TZID=Europe/Berlin:20230810T120000
DTSTAMP:20260423T184340
CREATED:20230731T155211Z
LAST-MODIFIED:20230808T082806Z
UID:10008748-1691658000-1691668800@freundstattfremd.de
SUMMARY:Die Geschäftsstelle ist geschlossen
DESCRIPTION:Leider ist die Geschäftsstelle heute geschlossen. Wir sind über Mail zu erreichen: kontakt@freundstattfremd.de. Ebenso finden in regelmäßigen Abständen Sprechstunden und das Sprachcafé statt. Seht auf unserem Kalender\, wann die Blaue Frieda geöffnet ist.
URL:https://freundstattfremd.de/event/die-geschaeftsstelle-ist-geschlossen-2/
LOCATION:Blaue Frieda\, Schützenstraße 2a\, Bamberg\, Bayern\, 96050
ATTACH;FMTTYPE=image/png:https://freundstattfremd.de/wp-content/uploads/2023/07/sun-ge181f6826_1280.png
ORGANIZER;CN="Freund statt fremd e.V.":MAILTO:kontakt@freundstattfremd.de
END:VEVENT
BEGIN:VEVENT
DTSTART;TZID=Europe/Berlin:20230810T190000
DTEND;TZID=Europe/Berlin:20230810T200000
DTSTAMP:20260423T184340
CREATED:20230628T095709Z
LAST-MODIFIED:20230629T090100Z
UID:10007423-1691694000-1691697600@freundstattfremd.de
SUMMARY:Schach-Unterricht
DESCRIPTION:Von 19-20 Uhr könnt ihr euch in der Kunst des Schachs unterrichten lassen. Lernt neue Spielzüge und neue Leute kennen. Veranstaltung für Erwachsene.
URL:https://freundstattfremd.de/event/schach-unterricht-3/2023-08-10/
LOCATION:Blaue Frieda\, Schützenstraße 2a\, Bamberg\, Bayern\, 96050
ATTACH;FMTTYPE=image/png:https://freundstattfremd.de/wp-content/uploads/2023/06/schach.png
ORGANIZER;CN="Freund statt fremd e.V.":MAILTO:kontakt@freundstattfremd.de
END:VEVENT
BEGIN:VEVENT
DTSTART;TZID=Europe/Berlin:20230810T200000
DTEND;TZID=Europe/Berlin:20230810T230000
DTSTAMP:20260423T184340
CREATED:20230628T100427Z
LAST-MODIFIED:20230628T100427Z
UID:10007945-1691697600-1691708400@freundstattfremd.de
SUMMARY:Freies Schach Spiel
DESCRIPTION:Wir treffen uns jeden Montag und Donnerstag ab 20 Uhr in der Blauen Frieda zum Schach spielen. \n 
URL:https://freundstattfremd.de/event/freies-schach-spiel/2023-08-10/
LOCATION:Blaue Frieda\, Schützenstraße 2a\, Bamberg\, Bayern\, 96050
ATTACH;FMTTYPE=image/png:https://freundstattfremd.de/wp-content/uploads/2023/06/board-gf45a04dcb_1280.png
ORGANIZER;CN="Freund statt fremd e.V.":MAILTO:kontakt@freundstattfremd.de
END:VEVENT
BEGIN:VEVENT
DTSTART;TZID=Europe/Berlin:20230811T123000
DTEND;TZID=Europe/Berlin:20230811T133000
DTSTAMP:20260423T184340
CREATED:20230925T075410Z
LAST-MODIFIED:20230925T075410Z
UID:10009408-1691757000-1691760600@freundstattfremd.de
SUMMARY:MoKo - Mohammads Köstlichkeiten in der Blauen Frieda!
DESCRIPTION:Jeden Freitag verwöhnt uns Mohammad mit wunderbarem Essen. Das aktuelle Menü der Woche findet ihr auf Instagram und Facebook.\n\n\nBitte mailt bis Donnerstagabend 20:00 an mohammadkocht@gmail.com unter Angabe von:\n\nName\nTelefon\nAnzahl der Portionen und Wahl des Gerichts\n\n\n\nFreitags zwischen 12:30 und 13:30 könnt ihr in der Blauen Frieda das Essen genießen und spenden.\n\n\nLasst es euch schmecken!
URL:https://freundstattfremd.de/event/moko-mohammads-koestlichkeiten-in-der-blauen-frieda-3/2023-08-11/
LOCATION:Blaue Frieda\, Schützenstraße 2a\, Bamberg\, Bayern\, 96050
ATTACH;FMTTYPE=image/jpeg:https://freundstattfremd.de/wp-content/uploads/2021/08/229511619_4316467991729415_8732734240260160848_n.jpg
ORGANIZER;CN="Freund statt fremd e.V.":MAILTO:kontakt@freundstattfremd.de
END:VEVENT
BEGIN:VEVENT
DTSTART;TZID=Europe/Berlin:20230812T150000
DTEND;TZID=Europe/Berlin:20230812T170000
DTSTAMP:20260423T184340
CREATED:20221006T111554Z
LAST-MODIFIED:20241210T093318Z
UID:10001020-1691852400-1691859600@freundstattfremd.de
SUMMARY:Beratungssprechstunde
DESCRIPTION:Am Samstag geht es in der Sprechstunde um alle Fragen\, die das Bleiben in Deutschland betreffen. Das Sprechstundenteam erreicht ihr per E-Mail an sprechstunde@freundstattfremd.de. \nKomm vorbei\, ohne Anmeldung oder Termin. Bitte Unterlagen vollständig mitbringen.
URL:https://freundstattfremd.de/event/beratungssprechstunde/2023-08-12/
LOCATION:Blaue Frieda\, Schützenstraße 2a\, Bamberg\, Bayern\, 96050
CATEGORIES:Sprechstunden
ATTACH;FMTTYPE=image/jpeg:https://freundstattfremd.de/wp-content/uploads/2022/10/Beratungssprechstunde.jpg
ORGANIZER;CN="Freund statt fremd e.V.":MAILTO:kontakt@freundstattfremd.de
END:VEVENT
BEGIN:VEVENT
DTSTART;TZID=Europe/Berlin:20230814T090000
DTEND;TZID=Europe/Berlin:20230814T120000
DTSTAMP:20260423T184340
CREATED:20230725T111122Z
LAST-MODIFIED:20230808T092344Z
UID:10008442-1692003600-1692014400@freundstattfremd.de
SUMMARY:Die Geschäftsstelle ist geschlossen
DESCRIPTION:Leider ist die Geschäftsstelle heute geschlossen. Wir sind über Mail zu erreichen: kontakt@freundstattfremd.de. Ebenso finden in regelmäßigen Abständen Sprechstunden und das Sprachcafé statt. Seht auf unserem Kalender\, wann die Blaue Frieda geöffnet ist.
URL:https://freundstattfremd.de/event/die-geschaeftsstelle-ist-geschlossen/2023-08-14/
LOCATION:Blaue Frieda\, Schützenstraße 2a\, Bamberg\, Bayern\, 96050
ATTACH;FMTTYPE=image/png:https://freundstattfremd.de/wp-content/uploads/2023/07/sun-ge181f6826_1280.png
ORGANIZER;CN="Freund statt fremd e.V.":MAILTO:kontakt@freundstattfremd.de
END:VEVENT
BEGIN:VEVENT
DTSTART;TZID=Europe/Berlin:20230814T190000
DTEND;TZID=Europe/Berlin:20230814T200000
DTSTAMP:20260423T184340
CREATED:20230628T094355Z
LAST-MODIFIED:20230629T085939Z
UID:10006641-1692039600-1692043200@freundstattfremd.de
SUMMARY:Schach-Unterricht
DESCRIPTION:Von 19-20 Uhr könnt ihr euch in der Kunst des Schachs unterrichten lassen. Lernt neue Spielzüge und neue Leute kennen. Veranstaltung für Erwachsene.
URL:https://freundstattfremd.de/event/schach-unterricht-2/2023-08-14/
LOCATION:Blaue Frieda\, Schützenstraße 2a\, Bamberg\, Bayern\, 96050
ATTACH;FMTTYPE=image/png:https://freundstattfremd.de/wp-content/uploads/2023/06/schach.png
ORGANIZER;CN="Freund statt fremd e.V.":MAILTO:kontakt@freundstattfremd.de
END:VEVENT
BEGIN:VEVENT
DTSTART;TZID=Europe/Berlin:20230814T200000
DTEND;TZID=Europe/Berlin:20230814T230000
DTSTAMP:20260423T184340
CREATED:20230628T094851Z
LAST-MODIFIED:20230628T094852Z
UID:10006901-1692043200-1692054000@freundstattfremd.de
SUMMARY:Freies Schach Spiel
DESCRIPTION:Wir treffen uns jeden Montag und Donnerstag ab 20 Uhr in der Blauen Frieda zum Schach spielen. \n 
URL:https://freundstattfremd.de/event/schach-spielen-in-der-blauen-frieda-2/2023-08-14/
LOCATION:Blaue Frieda\, Schützenstraße 2a\, Bamberg\, Bayern\, 96050
ATTACH;FMTTYPE=image/png:https://freundstattfremd.de/wp-content/uploads/2023/06/board-gf45a04dcb_1280.png
ORGANIZER;CN="Freund statt fremd e.V.":MAILTO:kontakt@freundstattfremd.de
END:VEVENT
BEGIN:VEVENT
DTSTART;TZID=Europe/Berlin:20230815T090000
DTEND;TZID=Europe/Berlin:20230815T120000
DTSTAMP:20260423T184340
CREATED:20230725T111122Z
LAST-MODIFIED:20230808T092344Z
UID:10008443-1692090000-1692100800@freundstattfremd.de
SUMMARY:Die Geschäftsstelle ist geschlossen
DESCRIPTION:Leider ist die Geschäftsstelle heute geschlossen. Wir sind über Mail zu erreichen: kontakt@freundstattfremd.de. Ebenso finden in regelmäßigen Abständen Sprechstunden und das Sprachcafé statt. Seht auf unserem Kalender\, wann die Blaue Frieda geöffnet ist.
URL:https://freundstattfremd.de/event/die-geschaeftsstelle-ist-geschlossen/2023-08-15/
LOCATION:Blaue Frieda\, Schützenstraße 2a\, Bamberg\, Bayern\, 96050
ATTACH;FMTTYPE=image/png:https://freundstattfremd.de/wp-content/uploads/2023/07/sun-ge181f6826_1280.png
ORGANIZER;CN="Freund statt fremd e.V.":MAILTO:kontakt@freundstattfremd.de
END:VEVENT
BEGIN:VEVENT
DTSTART;TZID=Europe/Berlin:20230816T140000
DTEND;TZID=Europe/Berlin:20230816T170000
DTSTAMP:20260423T184340
CREATED:20230725T074518Z
LAST-MODIFIED:20240424T090114Z
UID:10008417-1692194400-1692205200@freundstattfremd.de
SUMMARY:Sprachcafé
DESCRIPTION:Du willst gerne Leute treffen und Deutsch üben? Du möchtest etwas über andere Kulturen lernen? Dann komm ins Sprachcafé! \nWir sprechen über Familie\, Essen\, Kunst\, Kultur\, das Leben in Deutschland und alles\, wozu wir Lust haben. Alle Menschen\, die andere Menschen und Kulturen kennenlernen wollen\, sind herzlich willkommen. 
URL:https://freundstattfremd.de/event/sprachcafe-6/2023-08-16/
LOCATION:Blaue Frieda\, Schützenstraße 2a\, Bamberg\, Bayern\, 96050
ATTACH;FMTTYPE=image/jpeg:https://freundstattfremd.de/wp-content/uploads/2022/09/Sprachcafe-scaled.jpg
ORGANIZER;CN="Freund statt fremd e.V.":MAILTO:kontakt@freundstattfremd.de
END:VEVENT
BEGIN:VEVENT
DTSTART;TZID=Europe/Berlin:20230817T190000
DTEND;TZID=Europe/Berlin:20230817T200000
DTSTAMP:20260423T184340
CREATED:20230628T095709Z
LAST-MODIFIED:20230629T090100Z
UID:10007424-1692298800-1692302400@freundstattfremd.de
SUMMARY:Schach-Unterricht
DESCRIPTION:Von 19-20 Uhr könnt ihr euch in der Kunst des Schachs unterrichten lassen. Lernt neue Spielzüge und neue Leute kennen. Veranstaltung für Erwachsene.
URL:https://freundstattfremd.de/event/schach-unterricht-3/2023-08-17/
LOCATION:Blaue Frieda\, Schützenstraße 2a\, Bamberg\, Bayern\, 96050
ATTACH;FMTTYPE=image/png:https://freundstattfremd.de/wp-content/uploads/2023/06/schach.png
ORGANIZER;CN="Freund statt fremd e.V.":MAILTO:kontakt@freundstattfremd.de
END:VEVENT
BEGIN:VEVENT
DTSTART;TZID=Europe/Berlin:20230817T200000
DTEND;TZID=Europe/Berlin:20230817T230000
DTSTAMP:20260423T184340
CREATED:20230628T100427Z
LAST-MODIFIED:20230628T100427Z
UID:10007946-1692302400-1692313200@freundstattfremd.de
SUMMARY:Freies Schach Spiel
DESCRIPTION:Wir treffen uns jeden Montag und Donnerstag ab 20 Uhr in der Blauen Frieda zum Schach spielen. \n 
URL:https://freundstattfremd.de/event/freies-schach-spiel/2023-08-17/
LOCATION:Blaue Frieda\, Schützenstraße 2a\, Bamberg\, Bayern\, 96050
ATTACH;FMTTYPE=image/png:https://freundstattfremd.de/wp-content/uploads/2023/06/board-gf45a04dcb_1280.png
ORGANIZER;CN="Freund statt fremd e.V.":MAILTO:kontakt@freundstattfremd.de
END:VEVENT
BEGIN:VEVENT
DTSTART;TZID=Europe/Berlin:20230818T123000
DTEND;TZID=Europe/Berlin:20230818T133000
DTSTAMP:20260423T184340
CREATED:20230925T075410Z
LAST-MODIFIED:20230925T075410Z
UID:10009409-1692361800-1692365400@freundstattfremd.de
SUMMARY:MoKo - Mohammads Köstlichkeiten in der Blauen Frieda!
DESCRIPTION:Jeden Freitag verwöhnt uns Mohammad mit wunderbarem Essen. Das aktuelle Menü der Woche findet ihr auf Instagram und Facebook.\n\n\nBitte mailt bis Donnerstagabend 20:00 an mohammadkocht@gmail.com unter Angabe von:\n\nName\nTelefon\nAnzahl der Portionen und Wahl des Gerichts\n\n\n\nFreitags zwischen 12:30 und 13:30 könnt ihr in der Blauen Frieda das Essen genießen und spenden.\n\n\nLasst es euch schmecken!
URL:https://freundstattfremd.de/event/moko-mohammads-koestlichkeiten-in-der-blauen-frieda-3/2023-08-18/
LOCATION:Blaue Frieda\, Schützenstraße 2a\, Bamberg\, Bayern\, 96050
ATTACH;FMTTYPE=image/jpeg:https://freundstattfremd.de/wp-content/uploads/2021/08/229511619_4316467991729415_8732734240260160848_n.jpg
ORGANIZER;CN="Freund statt fremd e.V.":MAILTO:kontakt@freundstattfremd.de
END:VEVENT
BEGIN:VEVENT
DTSTART;TZID=Europe/Berlin:20230819T150000
DTEND;TZID=Europe/Berlin:20230819T170000
DTSTAMP:20260423T184340
CREATED:20221006T111554Z
LAST-MODIFIED:20241210T093318Z
UID:10001021-1692457200-1692464400@freundstattfremd.de
SUMMARY:Beratungssprechstunde
DESCRIPTION:Am Samstag geht es in der Sprechstunde um alle Fragen\, die das Bleiben in Deutschland betreffen. Das Sprechstundenteam erreicht ihr per E-Mail an sprechstunde@freundstattfremd.de. \nKomm vorbei\, ohne Anmeldung oder Termin. Bitte Unterlagen vollständig mitbringen.
URL:https://freundstattfremd.de/event/beratungssprechstunde/2023-08-19/
LOCATION:Blaue Frieda\, Schützenstraße 2a\, Bamberg\, Bayern\, 96050
CATEGORIES:Sprechstunden
ATTACH;FMTTYPE=image/jpeg:https://freundstattfremd.de/wp-content/uploads/2022/10/Beratungssprechstunde.jpg
ORGANIZER;CN="Freund statt fremd e.V.":MAILTO:kontakt@freundstattfremd.de
END:VEVENT
BEGIN:VEVENT
DTSTART;TZID=Europe/Berlin:20230821T090000
DTEND;TZID=Europe/Berlin:20230821T120000
DTSTAMP:20260423T184340
CREATED:20230725T111122Z
LAST-MODIFIED:20230808T092344Z
UID:10008445-1692608400-1692619200@freundstattfremd.de
SUMMARY:Die Geschäftsstelle ist geschlossen
DESCRIPTION:Leider ist die Geschäftsstelle heute geschlossen. Wir sind über Mail zu erreichen: kontakt@freundstattfremd.de. Ebenso finden in regelmäßigen Abständen Sprechstunden und das Sprachcafé statt. Seht auf unserem Kalender\, wann die Blaue Frieda geöffnet ist.
URL:https://freundstattfremd.de/event/die-geschaeftsstelle-ist-geschlossen/2023-08-21/
LOCATION:Blaue Frieda\, Schützenstraße 2a\, Bamberg\, Bayern\, 96050
ATTACH;FMTTYPE=image/png:https://freundstattfremd.de/wp-content/uploads/2023/07/sun-ge181f6826_1280.png
ORGANIZER;CN="Freund statt fremd e.V.":MAILTO:kontakt@freundstattfremd.de
END:VEVENT
BEGIN:VEVENT
DTSTART;TZID=Europe/Berlin:20230821T190000
DTEND;TZID=Europe/Berlin:20230821T200000
DTSTAMP:20260423T184340
CREATED:20230628T094355Z
LAST-MODIFIED:20230629T085939Z
UID:10006642-1692644400-1692648000@freundstattfremd.de
SUMMARY:Schach-Unterricht
DESCRIPTION:Von 19-20 Uhr könnt ihr euch in der Kunst des Schachs unterrichten lassen. Lernt neue Spielzüge und neue Leute kennen. Veranstaltung für Erwachsene.
URL:https://freundstattfremd.de/event/schach-unterricht-2/2023-08-21/
LOCATION:Blaue Frieda\, Schützenstraße 2a\, Bamberg\, Bayern\, 96050
ATTACH;FMTTYPE=image/png:https://freundstattfremd.de/wp-content/uploads/2023/06/schach.png
ORGANIZER;CN="Freund statt fremd e.V.":MAILTO:kontakt@freundstattfremd.de
END:VEVENT
BEGIN:VEVENT
DTSTART;TZID=Europe/Berlin:20230821T200000
DTEND;TZID=Europe/Berlin:20230821T230000
DTSTAMP:20260423T184340
CREATED:20230628T094851Z
LAST-MODIFIED:20230628T094852Z
UID:10006902-1692648000-1692658800@freundstattfremd.de
SUMMARY:Freies Schach Spiel
DESCRIPTION:Wir treffen uns jeden Montag und Donnerstag ab 20 Uhr in der Blauen Frieda zum Schach spielen. \n 
URL:https://freundstattfremd.de/event/schach-spielen-in-der-blauen-frieda-2/2023-08-21/
LOCATION:Blaue Frieda\, Schützenstraße 2a\, Bamberg\, Bayern\, 96050
ATTACH;FMTTYPE=image/png:https://freundstattfremd.de/wp-content/uploads/2023/06/board-gf45a04dcb_1280.png
ORGANIZER;CN="Freund statt fremd e.V.":MAILTO:kontakt@freundstattfremd.de
END:VEVENT
BEGIN:VEVENT
DTSTART;TZID=Europe/Berlin:20230822T090000
DTEND;TZID=Europe/Berlin:20230822T120000
DTSTAMP:20260423T184340
CREATED:20230725T111122Z
LAST-MODIFIED:20230808T092344Z
UID:10008446-1692694800-1692705600@freundstattfremd.de
SUMMARY:Die Geschäftsstelle ist geschlossen
DESCRIPTION:Leider ist die Geschäftsstelle heute geschlossen. Wir sind über Mail zu erreichen: kontakt@freundstattfremd.de. Ebenso finden in regelmäßigen Abständen Sprechstunden und das Sprachcafé statt. Seht auf unserem Kalender\, wann die Blaue Frieda geöffnet ist.
URL:https://freundstattfremd.de/event/die-geschaeftsstelle-ist-geschlossen/2023-08-22/
LOCATION:Blaue Frieda\, Schützenstraße 2a\, Bamberg\, Bayern\, 96050
ATTACH;FMTTYPE=image/png:https://freundstattfremd.de/wp-content/uploads/2023/07/sun-ge181f6826_1280.png
ORGANIZER;CN="Freund statt fremd e.V.":MAILTO:kontakt@freundstattfremd.de
END:VEVENT
BEGIN:VEVENT
DTSTART;TZID=Europe/Berlin:20230822T170000
DTEND;TZID=Europe/Berlin:20230822T190000
DTSTAMP:20260423T184340
CREATED:20230725T121437Z
LAST-MODIFIED:20240424T090856Z
UID:10008744-1692723600-1692730800@freundstattfremd.de
SUMMARY:Ukraine-Sprechstunde
DESCRIPTION:Diese Sprechstunde findet jeden Dienstag und Donnerstag zwischen 17-19 Uhr in der Blauen Frieda statt.\nUnsere Helfer:innen versuchen\, alle Fragen zum Alltag und zum Leben in Deutschland zu beantworten bzw. weiterzuhelfen. \nOhne Anmeldung oder Termin!
URL:https://freundstattfremd.de/event/ukraine-sprechstunde-4/2023-08-22/
LOCATION:Blaue Frieda\, Schützenstraße 2a\, Bamberg\, Bayern\, 96050
CATEGORIES:Sprechstunden
ATTACH;FMTTYPE=image/png:https://freundstattfremd.de/wp-content/uploads/2022/03/Ukraine_01.png
ORGANIZER;CN="Freund statt fremd e.V.":MAILTO:kontakt@freundstattfremd.de
END:VEVENT
END:VCALENDAR