BEGIN:VCALENDAR
VERSION:2.0
PRODID:-//Freund statt fremd - ECPv6.15.17.1//NONSGML v1.0//EN
CALSCALE:GREGORIAN
METHOD:PUBLISH
X-WR-CALNAME:Freund statt fremd
X-ORIGINAL-URL:https://freundstattfremd.de
X-WR-CALDESC:Veranstaltungen für Freund statt fremd
REFRESH-INTERVAL;VALUE=DURATION:PT1H
X-Robots-Tag:noindex
X-PUBLISHED-TTL:PT1H
BEGIN:VTIMEZONE
TZID:Europe/Berlin
BEGIN:DAYLIGHT
TZOFFSETFROM:+0100
TZOFFSETTO:+0200
TZNAME:CEST
DTSTART:20220327T010000
END:DAYLIGHT
BEGIN:STANDARD
TZOFFSETFROM:+0200
TZOFFSETTO:+0100
TZNAME:CET
DTSTART:20221030T010000
END:STANDARD
BEGIN:DAYLIGHT
TZOFFSETFROM:+0100
TZOFFSETTO:+0200
TZNAME:CEST
DTSTART:20230326T010000
END:DAYLIGHT
BEGIN:STANDARD
TZOFFSETFROM:+0200
TZOFFSETTO:+0100
TZNAME:CET
DTSTART:20231029T010000
END:STANDARD
BEGIN:DAYLIGHT
TZOFFSETFROM:+0100
TZOFFSETTO:+0200
TZNAME:CEST
DTSTART:20240331T010000
END:DAYLIGHT
BEGIN:STANDARD
TZOFFSETFROM:+0200
TZOFFSETTO:+0100
TZNAME:CET
DTSTART:20241027T010000
END:STANDARD
END:VTIMEZONE
BEGIN:VEVENT
DTSTART;TZID=Europe/Berlin:20230901T123000
DTEND;TZID=Europe/Berlin:20230901T133000
DTSTAMP:20260423T153356
CREATED:20230925T075410Z
LAST-MODIFIED:20230925T075410Z
UID:10009411-1693571400-1693575000@freundstattfremd.de
SUMMARY:MoKo - Mohammads Köstlichkeiten in der Blauen Frieda!
DESCRIPTION:Jeden Freitag verwöhnt uns Mohammad mit wunderbarem Essen. Das aktuelle Menü der Woche findet ihr auf Instagram und Facebook.\n\n\nBitte mailt bis Donnerstagabend 20:00 an mohammadkocht@gmail.com unter Angabe von:\n\nName\nTelefon\nAnzahl der Portionen und Wahl des Gerichts\n\n\n\nFreitags zwischen 12:30 und 13:30 könnt ihr in der Blauen Frieda das Essen genießen und spenden.\n\n\nLasst es euch schmecken!
URL:https://freundstattfremd.de/event/moko-mohammads-koestlichkeiten-in-der-blauen-frieda-3/2023-09-01/
LOCATION:Blaue Frieda\, Schützenstraße 2a\, Bamberg\, Bayern\, 96050
ATTACH;FMTTYPE=image/jpeg:https://freundstattfremd.de/wp-content/uploads/2021/08/229511619_4316467991729415_8732734240260160848_n.jpg
ORGANIZER;CN="Freund statt fremd e.V.":MAILTO:kontakt@freundstattfremd.de
END:VEVENT
BEGIN:VEVENT
DTSTART;TZID=Europe/Berlin:20230902T140000
DTEND;TZID=Europe/Berlin:20230902T150000
DTSTAMP:20260423T153356
CREATED:20230706T064427Z
LAST-MODIFIED:20230706T064427Z
UID:10008351-1693663200-1693666800@freundstattfremd.de
SUMMARY:Sprechstunde - Ausbildung\, Beruf\, Studium
DESCRIPTION:SPRECHSTUNDE Ausbildung – Beruf – Studium\nAm Samstag um 14:00 ist Sprechstunde in der Blauen Frieda! Wir helfen dir bei Fragen zu:\n– Ausbildung\n– Arbeit\n– Praktikum\n– Studium\n– Bewerbung\nWichtig: Bring alle Dokumente mit (Zeugnisse\, Arbeitsnachweise)!\nWenn du vorab Fragen hast\, bitte mail an abs@freundstattfremd.de oder ruf an unter 0951-2975121.
URL:https://freundstattfremd.de/event/sprechstunde-ausbildung-beruf-studium-2/2023-09-02/
LOCATION:Blaue Frieda\, Schützenstraße 2a\, Bamberg\, Bayern\, 96050
ATTACH;FMTTYPE=image/jpeg:https://freundstattfremd.de/wp-content/uploads/2023/07/326794120_702735454676547_924497406348135183_n-e1714735433933.jpg
ORGANIZER;CN="Freund statt fremd e.V.":MAILTO:kontakt@freundstattfremd.de
END:VEVENT
BEGIN:VEVENT
DTSTART;TZID=Europe/Berlin:20230902T150000
DTEND;TZID=Europe/Berlin:20230902T170000
DTSTAMP:20260423T153356
CREATED:20221006T111554Z
LAST-MODIFIED:20241210T093318Z
UID:10001023-1693666800-1693674000@freundstattfremd.de
SUMMARY:Beratungssprechstunde
DESCRIPTION:Am Samstag geht es in der Sprechstunde um alle Fragen\, die das Bleiben in Deutschland betreffen. Das Sprechstundenteam erreicht ihr per E-Mail an sprechstunde@freundstattfremd.de. \nKomm vorbei\, ohne Anmeldung oder Termin. Bitte Unterlagen vollständig mitbringen.
URL:https://freundstattfremd.de/event/beratungssprechstunde/2023-09-02/
LOCATION:Blaue Frieda\, Schützenstraße 2a\, Bamberg\, Bayern\, 96050
CATEGORIES:Sprechstunden
ATTACH;FMTTYPE=image/jpeg:https://freundstattfremd.de/wp-content/uploads/2022/10/Beratungssprechstunde.jpg
ORGANIZER;CN="Freund statt fremd e.V.":MAILTO:kontakt@freundstattfremd.de
END:VEVENT
BEGIN:VEVENT
DTSTART;TZID=Europe/Berlin:20230904T190000
DTEND;TZID=Europe/Berlin:20230904T200000
DTSTAMP:20260423T153356
CREATED:20230628T094355Z
LAST-MODIFIED:20230629T085939Z
UID:10006644-1693854000-1693857600@freundstattfremd.de
SUMMARY:Schach-Unterricht
DESCRIPTION:Von 19-20 Uhr könnt ihr euch in der Kunst des Schachs unterrichten lassen. Lernt neue Spielzüge und neue Leute kennen. Veranstaltung für Erwachsene.
URL:https://freundstattfremd.de/event/schach-unterricht-2/2023-09-04/
LOCATION:Blaue Frieda\, Schützenstraße 2a\, Bamberg\, Bayern\, 96050
ATTACH;FMTTYPE=image/png:https://freundstattfremd.de/wp-content/uploads/2023/06/schach.png
ORGANIZER;CN="Freund statt fremd e.V.":MAILTO:kontakt@freundstattfremd.de
END:VEVENT
BEGIN:VEVENT
DTSTART;TZID=Europe/Berlin:20230904T200000
DTEND;TZID=Europe/Berlin:20230904T230000
DTSTAMP:20260423T153356
CREATED:20230628T094851Z
LAST-MODIFIED:20230628T094852Z
UID:10006904-1693857600-1693868400@freundstattfremd.de
SUMMARY:Freies Schach Spiel
DESCRIPTION:Wir treffen uns jeden Montag und Donnerstag ab 20 Uhr in der Blauen Frieda zum Schach spielen. \n 
URL:https://freundstattfremd.de/event/schach-spielen-in-der-blauen-frieda-2/2023-09-04/
LOCATION:Blaue Frieda\, Schützenstraße 2a\, Bamberg\, Bayern\, 96050
ATTACH;FMTTYPE=image/png:https://freundstattfremd.de/wp-content/uploads/2023/06/board-gf45a04dcb_1280.png
ORGANIZER;CN="Freund statt fremd e.V.":MAILTO:kontakt@freundstattfremd.de
END:VEVENT
BEGIN:VEVENT
DTSTART;TZID=Europe/Berlin:20230905T140000
DTEND;TZID=Europe/Berlin:20230905T170000
DTSTAMP:20260423T153356
CREATED:20230811T095443Z
LAST-MODIFIED:20230811T095443Z
UID:10008775-1693922400-1693933200@freundstattfremd.de
SUMMARY:Das Café ist wieder geöffnet
DESCRIPTION:Ab heute ist das Café wieder von Dienstag bis Samstag geöffnet. Von Dienstag bis Freitag findet das Sprachcafé statt. Und am Mittwoch und Samstag wird neben dem Café beraten und unterstützt.
URL:https://freundstattfremd.de/event/das-cafe-ist-wieder-geoeffnet/
LOCATION:Blaue Frieda\, Schützenstraße 2a\, Bamberg\, Bayern\, 96050
ATTACH;FMTTYPE=image/jpeg:https://freundstattfremd.de/wp-content/uploads/2022/09/Sprachcafe-scaled.jpg
ORGANIZER;CN="Freund statt fremd e.V.":MAILTO:kontakt@freundstattfremd.de
END:VEVENT
BEGIN:VEVENT
DTSTART;TZID=Europe/Berlin:20230906T140000
DTEND;TZID=Europe/Berlin:20230906T160000
DTSTAMP:20260423T153356
CREATED:20231006T070234Z
LAST-MODIFIED:20240909T083539Z
UID:10009970-1694008800-1694016000@freundstattfremd.de
SUMMARY:Frag Mansour
DESCRIPTION:Jeden Mittwoch ist Mansour von 14-16 Uhr für euch. Er hilft bei Korrespondenzen und berät bei Alltagsproblemen. All das tut er auch auf persisch. \nیا نیاز به کمک و حمایت دارید ؟\nمن برای خدمت به شما آمادهام\nاز »منصور« بخواهید\nبرای مشاوره عمومی و کمک برای\nینامه نگار
URL:https://freundstattfremd.de/event/frag-mansour-4/2023-09-06/
LOCATION:Blaue Frieda\, Schützenstraße 2a\, Bamberg\, Bayern\, 96050
CATEGORIES:Sprechstunden
ATTACH;FMTTYPE=image/jpeg:https://freundstattfremd.de/wp-content/uploads/2023/10/fragM-scaled-e1717669911752.jpg
ORGANIZER;CN="Freund statt fremd e.V.":MAILTO:kontakt@freundstattfremd.de
END:VEVENT
BEGIN:VEVENT
DTSTART;TZID=Europe/Berlin:20230907T190000
DTEND;TZID=Europe/Berlin:20230907T200000
DTSTAMP:20260423T153356
CREATED:20230628T095709Z
LAST-MODIFIED:20230629T090100Z
UID:10007427-1694113200-1694116800@freundstattfremd.de
SUMMARY:Schach-Unterricht
DESCRIPTION:Von 19-20 Uhr könnt ihr euch in der Kunst des Schachs unterrichten lassen. Lernt neue Spielzüge und neue Leute kennen. Veranstaltung für Erwachsene.
URL:https://freundstattfremd.de/event/schach-unterricht-3/2023-09-07/
LOCATION:Blaue Frieda\, Schützenstraße 2a\, Bamberg\, Bayern\, 96050
ATTACH;FMTTYPE=image/png:https://freundstattfremd.de/wp-content/uploads/2023/06/schach.png
ORGANIZER;CN="Freund statt fremd e.V.":MAILTO:kontakt@freundstattfremd.de
END:VEVENT
BEGIN:VEVENT
DTSTART;TZID=Europe/Berlin:20230907T200000
DTEND;TZID=Europe/Berlin:20230907T230000
DTSTAMP:20260423T153356
CREATED:20230628T100427Z
LAST-MODIFIED:20230628T100427Z
UID:10007949-1694116800-1694127600@freundstattfremd.de
SUMMARY:Freies Schach Spiel
DESCRIPTION:Wir treffen uns jeden Montag und Donnerstag ab 20 Uhr in der Blauen Frieda zum Schach spielen. \n 
URL:https://freundstattfremd.de/event/freies-schach-spiel/2023-09-07/
LOCATION:Blaue Frieda\, Schützenstraße 2a\, Bamberg\, Bayern\, 96050
ATTACH;FMTTYPE=image/png:https://freundstattfremd.de/wp-content/uploads/2023/06/board-gf45a04dcb_1280.png
ORGANIZER;CN="Freund statt fremd e.V.":MAILTO:kontakt@freundstattfremd.de
END:VEVENT
BEGIN:VEVENT
DTSTART;TZID=Europe/Berlin:20230908T123000
DTEND;TZID=Europe/Berlin:20230908T133000
DTSTAMP:20260423T153356
CREATED:20230925T075410Z
LAST-MODIFIED:20230925T075410Z
UID:10009412-1694176200-1694179800@freundstattfremd.de
SUMMARY:MoKo - Mohammads Köstlichkeiten in der Blauen Frieda!
DESCRIPTION:Jeden Freitag verwöhnt uns Mohammad mit wunderbarem Essen. Das aktuelle Menü der Woche findet ihr auf Instagram und Facebook.\n\n\nBitte mailt bis Donnerstagabend 20:00 an mohammadkocht@gmail.com unter Angabe von:\n\nName\nTelefon\nAnzahl der Portionen und Wahl des Gerichts\n\n\n\nFreitags zwischen 12:30 und 13:30 könnt ihr in der Blauen Frieda das Essen genießen und spenden.\n\n\nLasst es euch schmecken!
URL:https://freundstattfremd.de/event/moko-mohammads-koestlichkeiten-in-der-blauen-frieda-3/2023-09-08/
LOCATION:Blaue Frieda\, Schützenstraße 2a\, Bamberg\, Bayern\, 96050
ATTACH;FMTTYPE=image/jpeg:https://freundstattfremd.de/wp-content/uploads/2021/08/229511619_4316467991729415_8732734240260160848_n.jpg
ORGANIZER;CN="Freund statt fremd e.V.":MAILTO:kontakt@freundstattfremd.de
END:VEVENT
BEGIN:VEVENT
DTSTART;TZID=Europe/Berlin:20230909T150000
DTEND;TZID=Europe/Berlin:20230909T170000
DTSTAMP:20260423T153356
CREATED:20221006T111554Z
LAST-MODIFIED:20241210T093318Z
UID:10001024-1694271600-1694278800@freundstattfremd.de
SUMMARY:Beratungssprechstunde
DESCRIPTION:Am Samstag geht es in der Sprechstunde um alle Fragen\, die das Bleiben in Deutschland betreffen. Das Sprechstundenteam erreicht ihr per E-Mail an sprechstunde@freundstattfremd.de. \nKomm vorbei\, ohne Anmeldung oder Termin. Bitte Unterlagen vollständig mitbringen.
URL:https://freundstattfremd.de/event/beratungssprechstunde/2023-09-09/
LOCATION:Blaue Frieda\, Schützenstraße 2a\, Bamberg\, Bayern\, 96050
CATEGORIES:Sprechstunden
ATTACH;FMTTYPE=image/jpeg:https://freundstattfremd.de/wp-content/uploads/2022/10/Beratungssprechstunde.jpg
ORGANIZER;CN="Freund statt fremd e.V.":MAILTO:kontakt@freundstattfremd.de
END:VEVENT
BEGIN:VEVENT
DTSTART;TZID=Europe/Berlin:20230911T190000
DTEND;TZID=Europe/Berlin:20230911T200000
DTSTAMP:20260423T153356
CREATED:20230628T094355Z
LAST-MODIFIED:20230629T085939Z
UID:10006645-1694458800-1694462400@freundstattfremd.de
SUMMARY:Schach-Unterricht
DESCRIPTION:Von 19-20 Uhr könnt ihr euch in der Kunst des Schachs unterrichten lassen. Lernt neue Spielzüge und neue Leute kennen. Veranstaltung für Erwachsene.
URL:https://freundstattfremd.de/event/schach-unterricht-2/2023-09-11/
LOCATION:Blaue Frieda\, Schützenstraße 2a\, Bamberg\, Bayern\, 96050
ATTACH;FMTTYPE=image/png:https://freundstattfremd.de/wp-content/uploads/2023/06/schach.png
ORGANIZER;CN="Freund statt fremd e.V.":MAILTO:kontakt@freundstattfremd.de
END:VEVENT
BEGIN:VEVENT
DTSTART;TZID=Europe/Berlin:20230911T200000
DTEND;TZID=Europe/Berlin:20230911T230000
DTSTAMP:20260423T153356
CREATED:20230628T094851Z
LAST-MODIFIED:20230628T094852Z
UID:10006905-1694462400-1694473200@freundstattfremd.de
SUMMARY:Freies Schach Spiel
DESCRIPTION:Wir treffen uns jeden Montag und Donnerstag ab 20 Uhr in der Blauen Frieda zum Schach spielen. \n 
URL:https://freundstattfremd.de/event/schach-spielen-in-der-blauen-frieda-2/2023-09-11/
LOCATION:Blaue Frieda\, Schützenstraße 2a\, Bamberg\, Bayern\, 96050
ATTACH;FMTTYPE=image/png:https://freundstattfremd.de/wp-content/uploads/2023/06/board-gf45a04dcb_1280.png
ORGANIZER;CN="Freund statt fremd e.V.":MAILTO:kontakt@freundstattfremd.de
END:VEVENT
BEGIN:VEVENT
DTSTART;TZID=Europe/Berlin:20230912T140000
DTEND;TZID=Europe/Berlin:20230912T170000
DTSTAMP:20260423T153356
CREATED:20221114T123538Z
LAST-MODIFIED:20260414T101953Z
UID:10001828-1694527200-1694538000@freundstattfremd.de
SUMMARY:Sprachcafé
DESCRIPTION:Du willst gerne Leute treffen und Deutsch üben? Du möchtest etwas über andere Kulturen lernen? Dann komm ins Sprachcafé! \nWir sprechen über Familie\, Essen\, Kunst\, Kultur\, das Leben in Deutschland und alles\, wozu wir Lust haben. Alle Menschen\, die andere Menschen und Kulturen kennenlernen wollen\, sind herzlich willkommen. 
URL:https://freundstattfremd.de/event/sprachcafe-2/2023-09-12/
LOCATION:Blaue Frieda\, Schützenstraße 2a\, Bamberg\, Bayern\, 96050
ATTACH;FMTTYPE=image/jpeg:https://freundstattfremd.de/wp-content/uploads/2022/10/Sprachcafe.jpg
ORGANIZER;CN="Freund statt fremd e.V.":MAILTO:kontakt@freundstattfremd.de
END:VEVENT
BEGIN:VEVENT
DTSTART;TZID=Europe/Berlin:20230912T170000
DTEND;TZID=Europe/Berlin:20230912T190000
DTSTAMP:20260423T153356
CREATED:20220908T114558Z
LAST-MODIFIED:20221006T110710Z
UID:10000554-1694538000-1694545200@freundstattfremd.de
SUMMARY:Ukraine-Sprechstunde
DESCRIPTION:Diese Sprechstunde findet jeden Dienstag und Donnerstag zwischen 17-19 Uhr in der Blauen Frieda statt.\nUnsere Helfer:innen versuchen\, alle Fragen zum Alltag und zum Leben in Deutschland zu beantworten bzw. weiterzuhelfen. \nOhne Anmeldung oder Termin!
URL:https://freundstattfremd.de/event/ukraine-sprechstunde/2023-09-12/
LOCATION:Blaue Frieda\, Schützenstraße 2a\, Bamberg\, Bayern\, 96050
CATEGORIES:Sprechstunden
ATTACH;FMTTYPE=image/png:https://freundstattfremd.de/wp-content/uploads/2022/03/Ukraine_01.png
ORGANIZER;CN="Freund statt fremd e.V.":MAILTO:kontakt@freundstattfremd.de
END:VEVENT
BEGIN:VEVENT
DTSTART;TZID=Europe/Berlin:20230913T140000
DTEND;TZID=Europe/Berlin:20230913T160000
DTSTAMP:20260423T153356
CREATED:20230228T084604Z
LAST-MODIFIED:20230309T114058Z
UID:10003144-1694613600-1694620800@freundstattfremd.de
SUMMARY:Frag Mansour
DESCRIPTION:Jeden Mittwoch ist Mansour von 14-16 Uhr für euch. Er hilft bei Korrespondenzen und berät bei Alltagsproblemen. All das tut er auch auf persisch. \nیا نیاز به کمک و حمایت دارید ؟\nمن برای خدمت به شما آمادهام\nاز »منصور« بخواهید\nبرای مشاوره عمومی و کمک برای\nینامه نگار
URL:https://freundstattfremd.de/event/frag-mansour/2023-09-13/
LOCATION:Blaue Frieda\, Schützenstraße 2a\, Bamberg\, Bayern\, 96050
CATEGORIES:Sprechstunden
ATTACH;FMTTYPE=image/jpeg:https://freundstattfremd.de/wp-content/uploads/2023/02/hands-gaa4591c4e_1920.jpg
ORGANIZER;CN="Freund statt fremd e.V.":MAILTO:kontakt@freundstattfremd.de
END:VEVENT
BEGIN:VEVENT
DTSTART;TZID=Europe/Berlin:20230913T140000
DTEND;TZID=Europe/Berlin:20230913T160000
DTSTAMP:20260423T153356
CREATED:20231006T070234Z
LAST-MODIFIED:20240909T083539Z
UID:10009969-1694613600-1694620800@freundstattfremd.de
SUMMARY:Frag Mansour
DESCRIPTION:Jeden Mittwoch ist Mansour von 14-16 Uhr für euch. Er hilft bei Korrespondenzen und berät bei Alltagsproblemen. All das tut er auch auf persisch. \nیا نیاز به کمک و حمایت دارید ؟\nمن برای خدمت به شما آمادهام\nاز »منصور« بخواهید\nبرای مشاوره عمومی و کمک برای\nینامه نگار
URL:https://freundstattfremd.de/event/frag-mansour-4/2023-09-13/
LOCATION:Blaue Frieda\, Schützenstraße 2a\, Bamberg\, Bayern\, 96050
CATEGORIES:Sprechstunden
ATTACH;FMTTYPE=image/jpeg:https://freundstattfremd.de/wp-content/uploads/2023/10/fragM-scaled-e1717669911752.jpg
ORGANIZER;CN="Freund statt fremd e.V.":MAILTO:kontakt@freundstattfremd.de
END:VEVENT
BEGIN:VEVENT
DTSTART;TZID=Europe/Berlin:20230913T140000
DTEND;TZID=Europe/Berlin:20230913T170000
DTSTAMP:20260423T153356
CREATED:20221006T114929Z
LAST-MODIFIED:20241209T140137Z
UID:10001492-1694613600-1694624400@freundstattfremd.de
SUMMARY:Sprachcafé
DESCRIPTION:Du willst gerne Leute treffen und Deutsch üben? Du möchtest etwas über andere Kulturen lernen? Dann komm am Mittwoch ins Sprachcafé! \nWir sprechen über Familie\, Essen\, Kunst\, Kultur\, das Leben in Deutschland und alles\, wozu wir Lust haben. Alle offenen Menschen\, die andere Menschen und Kulturen kennenlernen wollen\, sind herzlich willkommen. 
URL:https://freundstattfremd.de/event/sprachcafe/2023-09-13/
LOCATION:Blaue Frieda\, Schützenstraße 2a\, Bamberg\, Bayern\, 96050
ATTACH;FMTTYPE=image/jpeg:https://freundstattfremd.de/wp-content/uploads/2022/10/Sprachcafe.jpg
ORGANIZER;CN="Freund statt fremd e.V.":MAILTO:kontakt@freundstattfremd.de
END:VEVENT
BEGIN:VEVENT
DTSTART;TZID=Europe/Berlin:20230914T140000
DTEND;TZID=Europe/Berlin:20230914T170000
DTSTAMP:20260423T153356
CREATED:20221114T123708Z
LAST-MODIFIED:20241209T140412Z
UID:10002037-1694700000-1694710800@freundstattfremd.de
SUMMARY:Sprachcafé
DESCRIPTION:Du willst gerne Leute treffen und Deutsch üben? Du möchtest etwas über andere Kulturen lernen? Dann komm ins Sprachcafé! \nWir sprechen über Familie\, Essen\, Kunst\, Kultur\, das Leben in Deutschland und alles\, wozu wir Lust haben. Alle Menschen\, die andere Menschen und Kulturen kennenlernen wollen\, sind herzlich willkommen. 
URL:https://freundstattfremd.de/event/sprachcafe-3/2023-09-14/
LOCATION:Blaue Frieda\, Schützenstraße 2a\, Bamberg\, Bayern\, 96050
ATTACH;FMTTYPE=image/jpeg:https://freundstattfremd.de/wp-content/uploads/2022/10/Sprachcafe.jpg
ORGANIZER;CN="Freund statt fremd e.V.":MAILTO:kontakt@freundstattfremd.de
END:VEVENT
BEGIN:VEVENT
DTSTART;TZID=Europe/Berlin:20230914T170000
DTEND;TZID=Europe/Berlin:20230914T190000
DTSTAMP:20260423T153356
CREATED:20221006T110543Z
LAST-MODIFIED:20240909T093337Z
UID:10000812-1694710800-1694718000@freundstattfremd.de
SUMMARY:Ukraine-Sprechstunde
DESCRIPTION:Diese Sprechstunde findet jeden Dienstag und Donnerstag zwischen 17-19 Uhr in der Blauen Frieda statt.\nUnsere Helfer:innen versuchen\, alle Fragen zum Alltag und zum Leben in Deutschland zu beantworten bzw. weiterzuhelfen. \nOhne Anmeldung oder Termin!
URL:https://freundstattfremd.de/event/ukraine-sprechstunde-2/2023-09-14/
LOCATION:Blaue Frieda\, Schützenstraße 2a\, Bamberg\, Bayern\, 96050
CATEGORIES:Sprechstunden
ATTACH;FMTTYPE=image/png:https://freundstattfremd.de/wp-content/uploads/2022/03/Ukraine_01.png
ORGANIZER;CN="Freund statt fremd e.V.":MAILTO:kontakt@freundstattfremd.de
END:VEVENT
BEGIN:VEVENT
DTSTART;TZID=Europe/Berlin:20230914T190000
DTEND;TZID=Europe/Berlin:20230914T200000
DTSTAMP:20260423T153356
CREATED:20230628T095709Z
LAST-MODIFIED:20230629T090100Z
UID:10007428-1694718000-1694721600@freundstattfremd.de
SUMMARY:Schach-Unterricht
DESCRIPTION:Von 19-20 Uhr könnt ihr euch in der Kunst des Schachs unterrichten lassen. Lernt neue Spielzüge und neue Leute kennen. Veranstaltung für Erwachsene.
URL:https://freundstattfremd.de/event/schach-unterricht-3/2023-09-14/
LOCATION:Blaue Frieda\, Schützenstraße 2a\, Bamberg\, Bayern\, 96050
ATTACH;FMTTYPE=image/png:https://freundstattfremd.de/wp-content/uploads/2023/06/schach.png
ORGANIZER;CN="Freund statt fremd e.V.":MAILTO:kontakt@freundstattfremd.de
END:VEVENT
BEGIN:VEVENT
DTSTART;TZID=Europe/Berlin:20230914T200000
DTEND;TZID=Europe/Berlin:20230914T230000
DTSTAMP:20260423T153356
CREATED:20230628T100427Z
LAST-MODIFIED:20230628T100427Z
UID:10007950-1694721600-1694732400@freundstattfremd.de
SUMMARY:Freies Schach Spiel
DESCRIPTION:Wir treffen uns jeden Montag und Donnerstag ab 20 Uhr in der Blauen Frieda zum Schach spielen. \n 
URL:https://freundstattfremd.de/event/freies-schach-spiel/2023-09-14/
LOCATION:Blaue Frieda\, Schützenstraße 2a\, Bamberg\, Bayern\, 96050
ATTACH;FMTTYPE=image/png:https://freundstattfremd.de/wp-content/uploads/2023/06/board-gf45a04dcb_1280.png
ORGANIZER;CN="Freund statt fremd e.V.":MAILTO:kontakt@freundstattfremd.de
END:VEVENT
BEGIN:VEVENT
DTSTART;TZID=Europe/Berlin:20230915T123000
DTEND;TZID=Europe/Berlin:20230915T133000
DTSTAMP:20260423T153356
CREATED:20230925T075410Z
LAST-MODIFIED:20230925T075410Z
UID:10009413-1694781000-1694784600@freundstattfremd.de
SUMMARY:MoKo - Mohammads Köstlichkeiten in der Blauen Frieda!
DESCRIPTION:Jeden Freitag verwöhnt uns Mohammad mit wunderbarem Essen. Das aktuelle Menü der Woche findet ihr auf Instagram und Facebook.\n\n\nBitte mailt bis Donnerstagabend 20:00 an mohammadkocht@gmail.com unter Angabe von:\n\nName\nTelefon\nAnzahl der Portionen und Wahl des Gerichts\n\n\n\nFreitags zwischen 12:30 und 13:30 könnt ihr in der Blauen Frieda das Essen genießen und spenden.\n\n\nLasst es euch schmecken!
URL:https://freundstattfremd.de/event/moko-mohammads-koestlichkeiten-in-der-blauen-frieda-3/2023-09-15/
LOCATION:Blaue Frieda\, Schützenstraße 2a\, Bamberg\, Bayern\, 96050
ATTACH;FMTTYPE=image/jpeg:https://freundstattfremd.de/wp-content/uploads/2021/08/229511619_4316467991729415_8732734240260160848_n.jpg
ORGANIZER;CN="Freund statt fremd e.V.":MAILTO:kontakt@freundstattfremd.de
END:VEVENT
BEGIN:VEVENT
DTSTART;TZID=Europe/Berlin:20230915T140000
DTEND;TZID=Europe/Berlin:20230915T170000
DTSTAMP:20260423T153356
CREATED:20230222T130121Z
LAST-MODIFIED:20241209T140448Z
UID:10002727-1694786400-1694797200@freundstattfremd.de
SUMMARY:Sprachcafé
DESCRIPTION:Du willst gerne Leute treffen und Deutsch üben? Du möchtest etwas über andere Kulturen lernen? Dann komm ins Sprachcafé! \nWir sprechen über Familie\, Essen\, Kunst\, Kultur\, das Leben in Deutschland und alles\, wozu wir Lust haben. Alle Menschen\, die andere Menschen und Kulturen kennenlernen wollen\, sind herzlich willkommen. 
URL:https://freundstattfremd.de/event/sprachcafe-4/2023-09-15/
LOCATION:Blaue Frieda\, Schützenstraße 2a\, Bamberg\, Bayern\, 96050
ATTACH;FMTTYPE=image/jpeg:https://freundstattfremd.de/wp-content/uploads/2022/10/Sprachcafe.jpg
ORGANIZER;CN="Freund statt fremd e.V.":MAILTO:kontakt@freundstattfremd.de
END:VEVENT
BEGIN:VEVENT
DTSTART;TZID=Europe/Berlin:20230916T100000
DTEND;TZID=Europe/Berlin:20230916T120000
DTSTAMP:20260423T153356
CREATED:20221006T114302Z
LAST-MODIFIED:20240220T111959Z
UID:10001283-1694858400-1694865600@freundstattfremd.de
SUMMARY:Nachhilfe für Schulkinder
DESCRIPTION:Jeden Samstag 10:00-12:00 Uhr wird in der Blauen Frieda Nachhilfe für Kinder von 6-16 Jahren angeboten.\nAnmeldung per E-Mail an bildung@freundstattfremd.de.
URL:https://freundstattfremd.de/event/nachhilfe-fuer-schulkinder/2023-09-16/
LOCATION:Blaue Frieda\, Schützenstraße 2a\, Bamberg\, Bayern\, 96050
CATEGORIES:Kinder
ATTACH;FMTTYPE=image/jpeg:https://freundstattfremd.de/wp-content/uploads/2022/10/IMG_20210918_112904_kl-DinA4-scaled.jpg
ORGANIZER;CN="Freund statt fremd e.V.":MAILTO:kontakt@freundstattfremd.de
END:VEVENT
BEGIN:VEVENT
DTSTART;TZID=Europe/Berlin:20230916T150000
DTEND;TZID=Europe/Berlin:20230916T170000
DTSTAMP:20260423T153356
CREATED:20221006T111554Z
LAST-MODIFIED:20241210T093318Z
UID:10001025-1694876400-1694883600@freundstattfremd.de
SUMMARY:Beratungssprechstunde
DESCRIPTION:Am Samstag geht es in der Sprechstunde um alle Fragen\, die das Bleiben in Deutschland betreffen. Das Sprechstundenteam erreicht ihr per E-Mail an sprechstunde@freundstattfremd.de. \nKomm vorbei\, ohne Anmeldung oder Termin. Bitte Unterlagen vollständig mitbringen.
URL:https://freundstattfremd.de/event/beratungssprechstunde/2023-09-16/
LOCATION:Blaue Frieda\, Schützenstraße 2a\, Bamberg\, Bayern\, 96050
CATEGORIES:Sprechstunden
ATTACH;FMTTYPE=image/jpeg:https://freundstattfremd.de/wp-content/uploads/2022/10/Beratungssprechstunde.jpg
ORGANIZER;CN="Freund statt fremd e.V.":MAILTO:kontakt@freundstattfremd.de
END:VEVENT
BEGIN:VEVENT
DTSTART;TZID=Europe/Berlin:20230918T190000
DTEND;TZID=Europe/Berlin:20230918T200000
DTSTAMP:20260423T153356
CREATED:20230628T094355Z
LAST-MODIFIED:20230629T085939Z
UID:10006646-1695063600-1695067200@freundstattfremd.de
SUMMARY:Schach-Unterricht
DESCRIPTION:Von 19-20 Uhr könnt ihr euch in der Kunst des Schachs unterrichten lassen. Lernt neue Spielzüge und neue Leute kennen. Veranstaltung für Erwachsene.
URL:https://freundstattfremd.de/event/schach-unterricht-2/2023-09-18/
LOCATION:Blaue Frieda\, Schützenstraße 2a\, Bamberg\, Bayern\, 96050
ATTACH;FMTTYPE=image/png:https://freundstattfremd.de/wp-content/uploads/2023/06/schach.png
ORGANIZER;CN="Freund statt fremd e.V.":MAILTO:kontakt@freundstattfremd.de
END:VEVENT
BEGIN:VEVENT
DTSTART;TZID=Europe/Berlin:20230918T200000
DTEND;TZID=Europe/Berlin:20230918T230000
DTSTAMP:20260423T153356
CREATED:20230628T094851Z
LAST-MODIFIED:20230628T094852Z
UID:10006906-1695067200-1695078000@freundstattfremd.de
SUMMARY:Freies Schach Spiel
DESCRIPTION:Wir treffen uns jeden Montag und Donnerstag ab 20 Uhr in der Blauen Frieda zum Schach spielen. \n 
URL:https://freundstattfremd.de/event/schach-spielen-in-der-blauen-frieda-2/2023-09-18/
LOCATION:Blaue Frieda\, Schützenstraße 2a\, Bamberg\, Bayern\, 96050
ATTACH;FMTTYPE=image/png:https://freundstattfremd.de/wp-content/uploads/2023/06/board-gf45a04dcb_1280.png
ORGANIZER;CN="Freund statt fremd e.V.":MAILTO:kontakt@freundstattfremd.de
END:VEVENT
BEGIN:VEVENT
DTSTART;TZID=Europe/Berlin:20230919T140000
DTEND;TZID=Europe/Berlin:20230919T170000
DTSTAMP:20260423T153356
CREATED:20221114T123538Z
LAST-MODIFIED:20260414T101953Z
UID:10001829-1695132000-1695142800@freundstattfremd.de
SUMMARY:Sprachcafé
DESCRIPTION:Du willst gerne Leute treffen und Deutsch üben? Du möchtest etwas über andere Kulturen lernen? Dann komm ins Sprachcafé! \nWir sprechen über Familie\, Essen\, Kunst\, Kultur\, das Leben in Deutschland und alles\, wozu wir Lust haben. Alle Menschen\, die andere Menschen und Kulturen kennenlernen wollen\, sind herzlich willkommen. 
URL:https://freundstattfremd.de/event/sprachcafe-2/2023-09-19/
LOCATION:Blaue Frieda\, Schützenstraße 2a\, Bamberg\, Bayern\, 96050
ATTACH;FMTTYPE=image/jpeg:https://freundstattfremd.de/wp-content/uploads/2022/10/Sprachcafe.jpg
ORGANIZER;CN="Freund statt fremd e.V.":MAILTO:kontakt@freundstattfremd.de
END:VEVENT
BEGIN:VEVENT
DTSTART;TZID=Europe/Berlin:20230919T170000
DTEND;TZID=Europe/Berlin:20230919T190000
DTSTAMP:20260423T153356
CREATED:20220908T114558Z
LAST-MODIFIED:20221006T110710Z
UID:10000555-1695142800-1695150000@freundstattfremd.de
SUMMARY:Ukraine-Sprechstunde
DESCRIPTION:Diese Sprechstunde findet jeden Dienstag und Donnerstag zwischen 17-19 Uhr in der Blauen Frieda statt.\nUnsere Helfer:innen versuchen\, alle Fragen zum Alltag und zum Leben in Deutschland zu beantworten bzw. weiterzuhelfen. \nOhne Anmeldung oder Termin!
URL:https://freundstattfremd.de/event/ukraine-sprechstunde/2023-09-19/
LOCATION:Blaue Frieda\, Schützenstraße 2a\, Bamberg\, Bayern\, 96050
CATEGORIES:Sprechstunden
ATTACH;FMTTYPE=image/png:https://freundstattfremd.de/wp-content/uploads/2022/03/Ukraine_01.png
ORGANIZER;CN="Freund statt fremd e.V.":MAILTO:kontakt@freundstattfremd.de
END:VEVENT
END:VCALENDAR