BEGIN:VCALENDAR
VERSION:2.0
PRODID:-//Freund statt fremd - ECPv6.15.17.1//NONSGML v1.0//EN
CALSCALE:GREGORIAN
METHOD:PUBLISH
X-WR-CALNAME:Freund statt fremd
X-ORIGINAL-URL:https://freundstattfremd.de
X-WR-CALDESC:Veranstaltungen für Freund statt fremd
REFRESH-INTERVAL;VALUE=DURATION:PT1H
X-Robots-Tag:noindex
X-PUBLISHED-TTL:PT1H
BEGIN:VTIMEZONE
TZID:Europe/Berlin
BEGIN:DAYLIGHT
TZOFFSETFROM:+0100
TZOFFSETTO:+0200
TZNAME:CEST
DTSTART:20220327T010000
END:DAYLIGHT
BEGIN:STANDARD
TZOFFSETFROM:+0200
TZOFFSETTO:+0100
TZNAME:CET
DTSTART:20221030T010000
END:STANDARD
BEGIN:DAYLIGHT
TZOFFSETFROM:+0100
TZOFFSETTO:+0200
TZNAME:CEST
DTSTART:20230326T010000
END:DAYLIGHT
BEGIN:STANDARD
TZOFFSETFROM:+0200
TZOFFSETTO:+0100
TZNAME:CET
DTSTART:20231029T010000
END:STANDARD
BEGIN:DAYLIGHT
TZOFFSETFROM:+0100
TZOFFSETTO:+0200
TZNAME:CEST
DTSTART:20240331T010000
END:DAYLIGHT
BEGIN:STANDARD
TZOFFSETFROM:+0200
TZOFFSETTO:+0100
TZNAME:CET
DTSTART:20241027T010000
END:STANDARD
END:VTIMEZONE
BEGIN:VEVENT
DTSTART;TZID=Europe/Berlin:20231126T160000
DTEND;TZID=Europe/Berlin:20231126T180000
DTSTAMP:20260425T122549
CREATED:20231114T082423Z
LAST-MODIFIED:20231121T090526Z
UID:10010323-1701014400-1701021600@freundstattfremd.de
SUMMARY:No one is coming except the waves - eine szenische Lesung
DESCRIPTION:Das Format „No one is coming except the waves“ – Eine Szenische Lesung thematisiert den Weg von Menschen über das Mittelmeer. Sie begeben sich auf eine gefährliche Reise ins Ungewisse\, in seeuntauglichen Booten\, mit viel zu vielen Menschen an Bord und ohne Rettungswesten. Die Lesung verarbeitet Originalfunkaufnahmen von den Aufklärungsflugzeugen von Sea-Watch\, Kommunikation der NGO Alarm Phone mit Menschen auf den Booten sowie Poesie derjenigen\, die flüchten müssen\, und fragt: Warum sind staatliche und Handelsschiffe in direkter Nähe und doch bleibt Rettung oft aus? Warum werden die Menschen allein gelassen? \n \nIm Anschluss liest der Autor Imad Al Suliman aus seinem Tatsachenroman „Das Jasmin Inferno. Eine Fluchtgeschichte“.
URL:https://freundstattfremd.de/event/no-one-is-coming-except-the-waves-eine-szenische-lesung/
LOCATION:Blaue Frieda\, Schützenstraße 2a\, Bamberg\, Bayern\, 96050
CATEGORIES:Kultur
ATTACH;FMTTYPE=image/jpeg:https://freundstattfremd.de/wp-content/uploads/2023/11/seawatch-klein.jpg
ORGANIZER;CN="Freund statt fremd e.V.":MAILTO:kontakt@freundstattfremd.de
END:VEVENT
END:VCALENDAR